BEGIN:VCALENDAR
VERSION:2.0
PRODID:-//フェリス女学院大学音楽学部同窓会Fグループ - ECPv6.15.19//NONSGML v1.0//EN
CALSCALE:GREGORIAN
METHOD:PUBLISH
X-WR-CALNAME:フェリス女学院大学音楽学部同窓会Fグループ
X-ORIGINAL-URL:https://fgroup.jp
X-WR-CALDESC:フェリス女学院大学音楽学部同窓会Fグループ のイベント
REFRESH-INTERVAL;VALUE=DURATION:PT1H
X-Robots-Tag:noindex
X-PUBLISHED-TTL:PT1H
BEGIN:VTIMEZONE
TZID:Asia/Tokyo
BEGIN:STANDARD
TZOFFSETFROM:+0900
TZOFFSETTO:+0900
TZNAME:JST
DTSTART:20180101T000000
END:STANDARD
END:VTIMEZONE
BEGIN:VEVENT
DTSTART;TZID=Asia/Tokyo:20190818T110000
DTEND;TZID=Asia/Tokyo:20190818T160000
DTSTAMP:20260423T104930
CREATED:20190611T035318Z
LAST-MODIFIED:20191001T165017Z
UID:10160-1566126000-1566144000@fgroup.jp
SUMMARY:愛する子どものうた20―ちっさな天使―
DESCRIPTION:【プログラム】\n11：00~\nドレミのうた\n崖の上のポニョ\n犬のおまわりさん\nおもちゃのチャチャチャ\n夢はひそかに\nアヴェマリア／セレナーデ (シューベルト)\nピアノソナタハ長調 Hob. XVI/35-1 (ハイドン)\nNancy (E. セジョルネ)\nほか \n14:00~\nさんぽ\nとなりのトトロ\nハイホー\nO mio babbio caro (プッチーニ)\nピアノ曲集「こどもの国」(湯山昭)～熱帯魚　ワルツ　いいことがありそう!\nIlijas (N. ジヴコヴィッチ)\n20回記念ミュージカル　サルくんと卵 (三浦真理)\nほか \n【出演】\n山下美樹(s.49回・院3)　佐々木淑子(fl.36回)　前田佳代(s.55回・院9)　宮木孝枝(s.61回)　古川亜希(s.57回)　高橋真衣子(s.64回)\n山木千絵(p.)　神尾弥(mar.)　川上由美(p.)　角田玲子(p.ryth)
URL:https://fgroup.jp/concert/20190818/
LOCATION:横浜市港北公会堂\, 港北区大豆戸町26-1\, 横浜市\, 神奈川県\, 222-0032\, Japan
CATEGORIES:Fグループ後援
ATTACH;FMTTYPE=image/jpeg:https://fgroup.jp/wp-content/uploads/20190818.jpg
ORGANIZER;CN="ki%E3%81%AE%E4%BC%9A%E4%BA%8B%E5%8B%99%E5%B1%80":MAILTO:kinokai@live.jp
END:VEVENT
BEGIN:VEVENT
DTSTART;TZID=Asia/Tokyo:20190824T140000
DTEND;TZID=Asia/Tokyo:20190824T160000
DTSTAMP:20260423T104930
CREATED:20190611T035224Z
LAST-MODIFIED:20191001T165708Z
UID:10158-1566655200-1566662400@fgroup.jp
SUMMARY:鈴木彩音ピアノリサイタル3
DESCRIPTION:【内容】 \n【出演】\n鈴木彩音(p.63回・院17)
URL:https://fgroup.jp/concert/20190824/
LOCATION:横浜市鶴見区文化センターサルビアホール\, 鶴見区鶴見中央1-31-2シークレイン内\, 横浜市\, 神奈川県\, 230-0051\, Japan
CATEGORIES:Fグループ後援
ATTACH;FMTTYPE=image/png:https://fgroup.jp/wp-content/uploads/20190824.png
END:VEVENT
BEGIN:VEVENT
DTSTART;TZID=Asia/Tokyo:20190825T133000
DTEND;TZID=Asia/Tokyo:20190825T153000
DTSTAMP:20260423T104930
CREATED:20190530T141620Z
LAST-MODIFIED:20191001T170048Z
UID:9796-1566739800-1566747000@fgroup.jp
SUMMARY:音の旅 vol.5 新しい風
DESCRIPTION:【内容】\n6名によるピアノコンサート\nショパン:3つのマズルカOp.59\nベートーヴェン:ピアノソナタ第15番「田園」より第1・2・4楽章\nモーツァルト:ピアノソナタK.310\nセブラック:《休日の日々から》第2集より「ショパンの泉」\nフラゴーソ:ノクターン 変ニ長調、変ロ短調\nメンデルスゾーン:幻想曲 嬰ヘ短調「スコットランド・ソナタ」他 \n【出演】\n山本紗英子(59回・院13) 永井由希(59回・院13) 猪口真理(59回・Dip) 大川菜緒(60回・院14) 成田有紀乃(60回・Dip) 小野寺麻那(65回)
URL:https://fgroup.jp/concert/20190825/
LOCATION:仙川フィックスホール\, 仙川町1-25-2 仙川アヴェニュー北プラザ\, 調布市\, 東京都\, 182-0002\, Japan
CATEGORIES:Fグループ後援
ATTACH;FMTTYPE=image/jpeg:https://fgroup.jp/wp-content/uploads/1556857160308-e1585425338815.jpg
ORGANIZER;CN="(%E5%95%8F%E3%81%84%E5%90%88%E3%82%8F%E3%81%9B) fughetta":MAILTO:fughetta5@gmail.com
END:VEVENT
END:VCALENDAR