BEGIN:VCALENDAR
VERSION:2.0
PRODID:-//フェリス女学院大学音楽学部同窓会Fグループ - ECPv6.15.19//NONSGML v1.0//EN
CALSCALE:GREGORIAN
METHOD:PUBLISH
X-ORIGINAL-URL:https://fgroup.jp
X-WR-CALDESC:フェリス女学院大学音楽学部同窓会Fグループ のイベント
REFRESH-INTERVAL;VALUE=DURATION:PT1H
X-Robots-Tag:noindex
X-PUBLISHED-TTL:PT1H
BEGIN:VTIMEZONE
TZID:Asia/Tokyo
BEGIN:STANDARD
TZOFFSETFROM:+0900
TZOFFSETTO:+0900
TZNAME:JST
DTSTART:20180101T000000
END:STANDARD
END:VTIMEZONE
BEGIN:VEVENT
DTSTART;TZID=Asia/Tokyo:20190705T184500
DTEND;TZID=Asia/Tokyo:20190705T210000
DTSTAMP:20260423T133643
CREATED:20190527T153644Z
LAST-MODIFIED:20190718T134009Z
UID:10043-1562352300-1562360400@fgroup.jp
SUMMARY:Fグループ・コンサート「ふれっしゅさんと共に」[中部支部]
DESCRIPTION:【演奏者とプログラム】 \n峯梨良(p.68回)　ピアノソロ\n　ショパン：マズルカ第17番 op. 24-4／バラード第4番 \n鈴木千秋(s.61回)／百瀬愛莉(p.)\n　J. シュトラウス：オペレッタ『こうもり』～「私を女優に」他 \n鈴木友香子 [1st] ／國枝千加 [2nd] 4手連弾\n　ボロディン：オペラ『イーゴリ公』～「ダッタン人の踊り」\n　サン=サーンス：死の舞踏 \n*** \n鈴木友香子(p.57回・院11)\n　ドビュッシー：『前奏曲』～「亜麻色の髪の乙女」\n　フォーレ：ノクターン第4番 \n國枝千加(p.56回・院12)\n　ラフマニノフ：楽興の時 op. 16～第3番、第4番\n　チャイコフスキー＝プレトニョフ編：演奏会用組曲「くるみ割り人形」  op. 71より　 \n鬼頭久美子(p.49回)\n　ドビュッシー：エレジー／『ベルガマスク組曲』～月の光／喜びの島\n　リスト：愛の夢第3番
URL:https://fgroup.jp/concert/20190705-2/
LOCATION:ザ・コンサートホール (電気文化会館)\, 中区栄2-2-5\, 名古屋市\, 愛知県\, 460-0008\, Japan
CATEGORIES:Fグループ後援,Fグループ支部主催
ATTACH;FMTTYPE=image/jpeg:https://fgroup.jp/wp-content/uploads/20190705BL-e1563460293598.jpg
ORGANIZER;CN="F%E3%82%B0%E3%83%AB%E3%83%BC%E3%83%97%E4%B8%AD%E9%83%A8%E6%94%AF%E9%83%A8":MAILTO:chubu@fgroup.jp
END:VEVENT
BEGIN:VEVENT
DTSTART;TZID=Asia/Tokyo:20190705T190000
DTEND;TZID=Asia/Tokyo:20190705T210000
DTSTAMP:20260423T133643
CREATED:20190527T153833Z
LAST-MODIFIED:20190718T134031Z
UID:10048-1562353200-1562360400@fgroup.jp
SUMMARY:Fグループ ジョイントコンサート in Fukuoka [九州・山口支部]
DESCRIPTION:
URL:https://fgroup.jp/concert/20190705/
LOCATION:あいれふホール (福岡市健康づくりサポートセンター)\, 中央区舞鶴2-5-1\, 福岡市\, 福岡県\, 810-0073\, Japan
CATEGORIES:Fグループ後援,Fグループ支部主催
ATTACH;FMTTYPE=image/jpeg:https://fgroup.jp/wp-content/uploads/20190705A-e1563460258930.jpg
END:VEVENT
BEGIN:VEVENT
DTSTART;TZID=Asia/Tokyo:20190724T190000
DTEND;TZID=Asia/Tokyo:20190724T210000
DTSTAMP:20260423T133643
CREATED:20190117T074350Z
LAST-MODIFIED:20191001T164155Z
UID:9315-1563994800-1564002000@fgroup.jp
SUMMARY:東京ブリュッセルトリオ～東京公演2019～
DESCRIPTION:→チラシ裏面\n【プログラム】\nハイドン：トリオ Hob.XV15 ト長調\nリーバーマン：トリオ op. 83\nウェーバー：ピアノ三重奏 op. 63\n他 \n【出演】\n神田望美(fl.50回)\n長浜恵子(p.)　ニコラ・デルタイユ(vc.)
URL:https://fgroup.jp/concert/20190724/
LOCATION:紀尾井町サロンホール\, 千代田区紀尾井町3-29 紀尾井町アークビル1F\, 東京都\, 102-0094\, Japan
CATEGORIES:Fグループ後援
ATTACH;FMTTYPE=image/jpeg:https://fgroup.jp/wp-content/uploads/20190724-1-e1585425267545.jpg
END:VEVENT
BEGIN:VEVENT
DTSTART;TZID=Asia/Tokyo:20190727T140000
DTEND;TZID=Asia/Tokyo:20190727T160000
DTSTAMP:20260423T133643
CREATED:20190611T035241Z
LAST-MODIFIED:20191001T164447Z
UID:10156-1564236000-1564243200@fgroup.jp
SUMMARY:藤川玲菜ソプラノリサイタル
DESCRIPTION:【プログラム】\n花の街\n夏の思い出\n夏は来ぬ\n浜辺の歌 \n他 \n【出演】\n藤川玲菜(s.66回)　鈴木彩音(p.63回・院17)
URL:https://fgroup.jp/concert/20190727/
LOCATION:横浜市イギリス館\, 中区山手町115-3\, 横浜市\, 神奈川県\, 231-0862\, Japan
CATEGORIES:Fグループ後援
ATTACH;FMTTYPE=image/png:https://fgroup.jp/wp-content/uploads/20190727.png
END:VEVENT
BEGIN:VEVENT
DTSTART;TZID=Asia/Tokyo:20190728T140000
DTEND;TZID=Asia/Tokyo:20190728T160000
DTSTAMP:20260423T133643
CREATED:20190621T012659Z
LAST-MODIFIED:20191001T164800Z
UID:10194-1564322400-1564329600@fgroup.jp
SUMMARY:木村舞美子ピアノリサイタル
DESCRIPTION:【プログラム】\nラフマニノフ:楽興の時\nモーツァルト:ソナタ 第9番 K. 311\nショパン:アンダンテ・スピアナートと華麗なる大ポロネーズ　他				 \n【出演】\n木村舞美子(p.院19)
URL:https://fgroup.jp/concert/20190728/
LOCATION:スタインウェイサロン東京  松尾ホール\, 有楽町1丁目5-1日比谷マリンビルB1\, 千代田区\, 東京都\, 1000006\, 日本
CATEGORIES:Fグループ後援
ATTACH;FMTTYPE=image/jpeg:https://fgroup.jp/wp-content/uploads/20190728-e1585425283763.jpeg
END:VEVENT
END:VCALENDAR