BEGIN:VCALENDAR
VERSION:2.0
PRODID:-//フェリス女学院大学音楽学部同窓会Fグループ - ECPv6.15.19//NONSGML v1.0//EN
CALSCALE:GREGORIAN
METHOD:PUBLISH
X-WR-CALNAME:フェリス女学院大学音楽学部同窓会Fグループ
X-ORIGINAL-URL:https://fgroup.jp
X-WR-CALDESC:フェリス女学院大学音楽学部同窓会Fグループ のイベント
REFRESH-INTERVAL;VALUE=DURATION:PT1H
X-Robots-Tag:noindex
X-PUBLISHED-TTL:PT1H
BEGIN:VTIMEZONE
TZID:Asia/Tokyo
BEGIN:STANDARD
TZOFFSETFROM:+0900
TZOFFSETTO:+0900
TZNAME:JST
DTSTART:20180101T000000
END:STANDARD
END:VTIMEZONE
BEGIN:VEVENT
DTSTART;TZID=Asia/Tokyo:20190209T170000
DTEND;TZID=Asia/Tokyo:20190209T190000
DTSTAMP:20260426T080821
CREATED:20181026T104115Z
LAST-MODIFIED:20190718T135039Z
UID:8813-1549731600-1549738800@fgroup.jp
SUMMARY:Winter Concert vol. 4
DESCRIPTION:第13回横浜山手芸術祭参加公演\nTsucchy’s Family Ensemble with friends series vol.4 \n【プログラム】\nドビュッシー：『ベルガマスク組曲』より第3曲「月の光」\nサン・サーンス：ヴァイオリン協奏曲第3番ロ短調作品61 第1楽章\n久石譲：いつも何度でも（「千と千尋の神隠し」より）\nほか \n【出演】\n土屋友紀(48回・院3)　中川彩(Pf.61回)\n内田絵夢(Sop.)　土屋優喜(Vn.Rec.Vo.)　土屋舞喜(Vo.Perc.)　土屋喜照(Gt.)\nチラシ裏面
URL:https://fgroup.jp/concert/20190209/
LOCATION:エリスマン邸\, 中区元町1-77-4 元町公園内\, 横浜市\, 神奈川県\, 231-0861\, Japan
CATEGORIES:Fグループ後援
ATTACH;FMTTYPE=image/png:https://fgroup.jp/wp-content/uploads/1-1-e1563459967767.png
ORGANIZER;CN="Tsucchy's Family Ensemble":MAILTO:yukidabena@yahoo.co.jp
END:VEVENT
BEGIN:VEVENT
DTSTART;TZID=Asia/Tokyo:20190210T140000
DTEND;TZID=Asia/Tokyo:20190210T160000
DTSTAMP:20260426T080821
CREATED:20180611T144122Z
LAST-MODIFIED:20190718T134847Z
UID:7457-1549807200-1549814400@fgroup.jp
SUMMARY:大川菜緒 ピアノリサイタル
DESCRIPTION:【プログラム】\nバッハ：イギリス組曲第2番 イ短調 BWV 807\nベートーヴェン：ピアノ･ソナタ第21番 ハ長調 op. 53《ワルトシュタイン》\nフォーレ：ヴァルス･カプリス 第1番イ長調 op. 30／第2番 変ニ長調 op. 38\nシューベルト：3つのピアノ曲 D 946 \n【出演】\n大川菜緒(p.60回・院14)
URL:https://fgroup.jp/concert/20190210/
LOCATION:すみだトリフォニーホール 小ホール\, 墨田区錦糸1-2-3\, 東京都\, 130-0013
CATEGORIES:Fグループ後援
ATTACH;FMTTYPE=image/jpeg:https://fgroup.jp/wp-content/uploads/20190210-e1563459758591.jpg
END:VEVENT
BEGIN:VEVENT
DTSTART;TZID=Asia/Tokyo:20190216T140000
DTEND;TZID=Asia/Tokyo:20190216T160000
DTSTAMP:20260426T080821
CREATED:20181014T122309Z
LAST-MODIFIED:20190718T134808Z
UID:8630-1550325600-1550332800@fgroup.jp
SUMMARY:Trio Concert~フルート・ヴァイオリン・ピアノで奏でる午後のひととき~
DESCRIPTION:【プログラム】\nC.キュイ：５つの小品 op. 56\nJ.S.バッハ：「音楽の捧げ物」BWV 1079 トリオソナタ\nA.F.ドップラー：アメリカ小二重奏 op. 37\nM.ラヴェル：亡き王女のためのパヴァーヌ\nJ.フランセ：宮廷の音楽 \n【出演】\n増田留璃香(vn.61回・院15)　伊藤文音(p.61回)\n安藤温子(fl.)
URL:https://fgroup.jp/concert/20190216/
LOCATION:スタジオ・フィオリーレ\, 愛知県名古屋市中村区鳥居西通1-51　アンジュパティオ中村公園801号\, 名古屋市\, 愛知県\, 4530054\, 日本
CATEGORIES:Fグループ後援
ATTACH;FMTTYPE=image/jpeg:https://fgroup.jp/wp-content/uploads/20181205_104535-e1563459986632.jpg
END:VEVENT
BEGIN:VEVENT
DTSTART;TZID=Asia/Tokyo:20190217T110000
DTEND;TZID=Asia/Tokyo:20190217T154500
DTSTAMP:20260426T080821
CREATED:20181206T095118Z
LAST-MODIFIED:20190718T134555Z
UID:9061-1550401200-1550418300@fgroup.jp
SUMMARY:愛するこどものうた 19 ―愛と希望―
DESCRIPTION:→チラシ裏面\n【プログラム】\n11：00~\nドレミのうた\nエリーゼのために\nワルツ（ブラームス）\nいつも何度でも\n白い恋人たち\n美女と野獣\nほか \n14:00~\nミッキーマウスマーチ\nAmazing grace\nポロネーズ（バッハ）\n子犬のビンゴ物語（三浦真理）\nさんぽ\nとなりのトトロ\nほか \n【出演】\n山下美樹(s.49回・院3)　佐々木淑子(fl.36回)　前田佳代(s.55回・院9)　宮木孝枝(s.61回)　古川亜希(s.57回) 高橋真衣子(s.64回)\n山木千絵(p.)　神尾弥(mar.)　川上由美(p.)　角田玲子(p.ryth)
URL:https://fgroup.jp/concert/20190217/
LOCATION:横浜市港北公会堂\, 港北区大豆戸町26-1\, 横浜市\, 神奈川県\, 222-0032\, Japan
CATEGORIES:Fグループ後援
ATTACH;FMTTYPE=image/jpeg:https://fgroup.jp/wp-content/uploads/20190217-1-e1563460010885.jpg
ORGANIZER;CN="ki%E3%81%AE%E4%BC%9A%E4%BA%8B%E5%8B%99%E5%B1%80":MAILTO:kinokai@live.jp
END:VEVENT
END:VCALENDAR