BEGIN:VCALENDAR
VERSION:2.0
PRODID:-//フェリス女学院大学音楽学部同窓会Fグループ - ECPv6.15.19//NONSGML v1.0//EN
CALSCALE:GREGORIAN
METHOD:PUBLISH
X-WR-CALNAME:フェリス女学院大学音楽学部同窓会Fグループ
X-ORIGINAL-URL:https://fgroup.jp
X-WR-CALDESC:フェリス女学院大学音楽学部同窓会Fグループ のイベント
REFRESH-INTERVAL;VALUE=DURATION:PT1H
X-Robots-Tag:noindex
X-PUBLISHED-TTL:PT1H
BEGIN:VTIMEZONE
TZID:Asia/Tokyo
BEGIN:STANDARD
TZOFFSETFROM:+0900
TZOFFSETTO:+0900
TZNAME:JST
DTSTART:20170101T000000
END:STANDARD
END:VTIMEZONE
BEGIN:VEVENT
DTSTART;TZID=Asia/Tokyo:20181114T143000
DTEND;TZID=Asia/Tokyo:20181114T163000
DTSTAMP:20260426T130947
CREATED:20181025T152717Z
LAST-MODIFIED:20190718T141156Z
UID:8790-1542205800-1542213000@fgroup.jp
SUMMARY:2018年 教会コンサート 時は行く
DESCRIPTION:～ドビュッシー没100年に寄せて～ \n【プログラム】\nグレゴリオ聖歌\n・死者のためのミサ　レクイエム\n・受難と復活の祈り\n・マリア賛歌　サルヴェ・レジーナ\n日本語による朗誦\n・詩篇 §139 私が目覚める時…／§23 主は私の牧者…／§98 新しき歌を…\nドビュッシー作品演奏\n・歌曲：星の夜／木馬／ビリティスの歌\n・器楽：夢／シランクス\nほか \n【出演】立木稠子(MS.指導)\n聖歌隊：小方元美　高橋弥乃(55回)　高山奈夕子(43回)　仲山みどり　水谷歌織(51回)\n独唱：白藤亮子(49回)　本多ゆみ　松浦真理(34回)　矢島亜弥(53回)\nピアノ：大塚優子(52回・院6)　片野敦子(34回)　藤原恭子(49回)\nフルート：佐々木淑子(36回)
URL:https://fgroup.jp/concert/20181114/
LOCATION:日本福音ルーテル東京教会\, 新宿区大久保1-14-14\, 東京都\, 169-0072\, 日本
CATEGORIES:Fグループ会員出演
ATTACH;FMTTYPE=image/jpeg:https://fgroup.jp/wp-content/uploads/20181114-e1563459900307.jpg
END:VEVENT
BEGIN:VEVENT
DTSTART;TZID=Asia/Tokyo:20181116T190000
DTEND;TZID=Asia/Tokyo:20181116T210000
DTSTAMP:20260426T130947
CREATED:20180611T143511Z
LAST-MODIFIED:20190718T141113Z
UID:7443-1542394800-1542402000@fgroup.jp
SUMMARY:冨貴亜里紗、ショパンを弾く
DESCRIPTION:【プログラム】\nシューベルト：ピアノソナタ第13番イ長調 op. 120\nドビュッシー：喜びの島\nショパン：\nエチュード 第12番『革命』op. 10-12\nノクターン 第1番 op.9-1／第2番 op. 9-2／第8番 op. 27-2\nマズルカ第11番 op. 17-2／第23番 op. 33-2／第41番 op. 63-3\nバラード第4番 op. 52\n子守唄 op. 57\n他 \n【出演】\n冨貴亜里紗(p.56回)
URL:https://fgroup.jp/concert/20181116/
LOCATION:和光大学ポプリホール鶴川\, 能ヶ谷1-2-1\, 町田市\, 東京都\, 195-0053\, Japan
CATEGORIES:Fグループ後援
ATTACH;FMTTYPE=image/jpeg:https://fgroup.jp/wp-content/uploads/20181116.jpeg
END:VEVENT
BEGIN:VEVENT
DTSTART;TZID=Asia/Tokyo:20181124T120000
DTEND;TZID=Asia/Tokyo:20181124T130000
DTSTAMP:20260426T130947
CREATED:20181025T151945Z
LAST-MODIFIED:20190718T140829Z
UID:8787-1543060800-1543064400@fgroup.jp
SUMMARY:赤坂ベヒシュタインサロン ランチタイムコンサート vol. 14
DESCRIPTION:【プログラム】\nショパン：幻想曲 op. 49\nリスト：リゴレットパラフレーズ\nほか \n【出演】フェリス女学院大学音楽学部\n長濱瑠美(p.大学2年)\n黒川浩(p.教授)
URL:https://fgroup.jp/concert/20181124/
LOCATION:赤坂ベヒシュタイン・センター\, 港区赤坂6-1-20 国際新赤坂ビル西館B1F\, 東京都\, 107-0052\, Japan
CATEGORIES:Fグループ会員出演,音楽学部教員出演
ATTACH;FMTTYPE=image/jpeg:https://fgroup.jp/wp-content/uploads/20181124-e1563459890959.jpg
ORGANIZER;CN="%E8%B5%A4%E5%9D%82%E3%83%99%E3%83%92%E3%82%B7%E3%83%A5%E3%82%BF%E3%82%A4%E3%83%B3%E3%83%BB%E3%82%BB%E3%83%B3%E3%82%BF%E3%83%BC":MAILTO:aka-salon@euro-piano.co.jp
END:VEVENT
BEGIN:VEVENT
DTSTART;TZID=Asia/Tokyo:20181125T140000
DTEND;TZID=Asia/Tokyo:20181125T160000
DTSTAMP:20260426T130947
CREATED:20180608T233700Z
LAST-MODIFIED:20190718T140719Z
UID:7209-1543154400-1543161600@fgroup.jp
SUMMARY:愛するおとなのうた 3
DESCRIPTION:→チラシ裏面\n【プログラム】\nキャンディーズ・メドレー\nTomorrow\nエーデルワイス\nブラック・インヴェンション (三浦真理 作曲)\n神の森 (佐藤信人 作曲)\nほか \n【出演】\n山下美樹(s.49回・院3)　佐々木淑子(fl.36回)　鬼頭久美子(p.49回)\nDrops: 前田佳代(s.55回・院9)　宮木孝枝(s.61回)\n山木千絵(p)　神尾弥(mar)
URL:https://fgroup.jp/concert/20181125/
LOCATION:横浜市港北公会堂\, 港北区大豆戸町26-1\, 横浜市\, 神奈川県\, 222-0032\, Japan
CATEGORIES:Fグループ後援
ATTACH;FMTTYPE=image/jpeg:https://fgroup.jp/wp-content/uploads/20181125-e1563459854683.jpg
ORGANIZER;CN="ki%E3%81%AE%E4%BC%9A%E4%BA%8B%E5%8B%99%E5%B1%80":MAILTO:kinokai@live.jp
END:VEVENT
BEGIN:VEVENT
DTSTART;TZID=Asia/Tokyo:20181130T181500
DTEND;TZID=Asia/Tokyo:20181130T203000
DTSTAMP:20260426T130947
CREATED:20180920T010115Z
LAST-MODIFIED:20190718T140637Z
UID:7996-1543601700-1543609800@fgroup.jp
SUMMARY:Fグループ・コンサート 「落合敦教授をお迎えしてふれっしゅさんと共に」
DESCRIPTION:【演奏者とプログラム】\n小出真琴(s.67回)　鈴木彩音(p.63回・院17)\n　ロドリーゴ：４つの愛のマドリガル　他 \n吉川ゆり子(p.67回)\n　モンポウ：ショパンの主題による変奏曲 \nFグループアンサンブル Coro・Felice／大橋多美子(cond.20回)　浜田真代(p.52回)\n　谷川俊太郎の詩による「ことばあそびうた」より\n　三善晃　うとうとう／かっぱ／ことこ\n　新実徳英　いるか・かぞえうた　他 \n落合敦(p.教授)\n　モーツァルト：きらきら星の主題による12の変奏曲 ハ長調 K.265\n　ドビュッシー：ベルガマスク組曲より　月の光\n　J. S. バッハ(E. ペトリ編)：羊は安らかに草を食み\n　落合敦編：即興演奏　クリスマスによせて\n　バッハ、モーツァルト、ショパン、ドビュッシー、ラフマニノフ　他\n　大作曲家達の作品風のアレンジで
URL:https://fgroup.jp/concert/20181130/
LOCATION:ザ・コンサートホール (電気文化会館)\, 中区栄2-2-5\, 名古屋市\, 愛知県\, 460-0008\, Japan
CATEGORIES:Fグループ支部主催
ATTACH;FMTTYPE=image/jpeg:https://fgroup.jp/wp-content/uploads/20181130.jpg
ORGANIZER;CN="F%E3%82%B0%E3%83%AB%E3%83%BC%E3%83%97%E4%B8%AD%E9%83%A8%E6%94%AF%E9%83%A8":MAILTO:chubu@fgroup.jp
END:VEVENT
END:VCALENDAR