BEGIN:VCALENDAR
VERSION:2.0
PRODID:-//フェリス女学院大学音楽学部同窓会Fグループ - ECPv6.15.19//NONSGML v1.0//EN
CALSCALE:GREGORIAN
METHOD:PUBLISH
X-WR-CALNAME:フェリス女学院大学音楽学部同窓会Fグループ
X-ORIGINAL-URL:https://fgroup.jp
X-WR-CALDESC:フェリス女学院大学音楽学部同窓会Fグループ のイベント
REFRESH-INTERVAL;VALUE=DURATION:PT1H
X-Robots-Tag:noindex
X-PUBLISHED-TTL:PT1H
BEGIN:VTIMEZONE
TZID:Asia/Tokyo
BEGIN:STANDARD
TZOFFSETFROM:+0900
TZOFFSETTO:+0900
TZNAME:JST
DTSTART:20190101T000000
END:STANDARD
END:VTIMEZONE
BEGIN:VEVENT
DTSTART;TZID=Asia/Tokyo:20200211T140000
DTEND;TZID=Asia/Tokyo:20200211T160000
DTSTAMP:20260423T044445
CREATED:20191212T085043Z
LAST-MODIFIED:20200401T072709Z
UID:11485-1581429600-1581436800@fgroup.jp
SUMMARY:ピアノの調べ～2台ピアノ・連弾の楽しみ～
DESCRIPTION:【プログラム】 \n1台4手\nバーバー：スーヴェニール組曲op. 28より「ためらいのタンゴ」\n2台4手\nブラームス：ハイドンの主題による変奏曲\nラフマニノフ：組曲第1番より「夜と愛と」\nほか \n【出演】※全てピアノ\n久保井明子(31回)　小林周子(29回)　堀内陽子(31回)　鈴木紀子(30回)　宮本京子(30回)　般若須美子(30回)　小倉一美(30回)　益田京子(30回)　金子かおり(36回)\n原弘子
URL:https://fgroup.jp/concert/20200211/
LOCATION:ひまわりの郷 ホール (港南区民文化センター)\, 港南区上大岡西1-6-1 ゆめおおおか中央棟4階\, 横浜市\, 神奈川県\, 233-0002\, Japan
CATEGORIES:Fグループ後援
ATTACH;FMTTYPE=image/jpeg:https://fgroup.jp/wp-content/uploads/20200211-e1585425557437.jpg
END:VEVENT
END:VCALENDAR