BEGIN:VCALENDAR
VERSION:2.0
PRODID:-//フェリス女学院大学音楽学部同窓会Fグループ - ECPv6.15.19//NONSGML v1.0//EN
CALSCALE:GREGORIAN
METHOD:PUBLISH
X-WR-CALNAME:フェリス女学院大学音楽学部同窓会Fグループ
X-ORIGINAL-URL:https://fgroup.jp
X-WR-CALDESC:フェリス女学院大学音楽学部同窓会Fグループ のイベント
REFRESH-INTERVAL;VALUE=DURATION:PT1H
X-Robots-Tag:noindex
X-PUBLISHED-TTL:PT1H
BEGIN:VTIMEZONE
TZID:Asia/Tokyo
BEGIN:STANDARD
TZOFFSETFROM:+0900
TZOFFSETTO:+0900
TZNAME:JST
DTSTART:20180101T000000
END:STANDARD
END:VTIMEZONE
BEGIN:VEVENT
DTSTART;TZID=Asia/Tokyo:20190625T190000
DTEND;TZID=Asia/Tokyo:20190625T210000
DTSTAMP:20260425T232435
CREATED:20190213T132438Z
LAST-MODIFIED:20190718T133433Z
UID:9439-1561489200-1561496400@fgroup.jp
SUMMARY:フランティシェク・ホスト＆堀内陽子／久保井明子
DESCRIPTION:【プログラム】\nベートーヴェン：チェロソナタ第3番\nシューマン：幻想小曲集\nドビュッシー：小組曲　（ピアノ連弾）\nドビュッシー：チェロソナタ\nフォーレ：エレジー／子守歌\nグラナドス＝カサド：ゴイェスカスの間奏曲\nカサド：愛の言葉 \n【出演】\n久保井明子(p.31回)　堀内陽子(p.31回)\nフランティシェク・ホスト(vc.)
URL:https://fgroup.jp/concert/20190625/
LOCATION:横浜市戸塚区民文化センターさくらプラザホール\, 戸塚区戸塚町16−17\, 横浜市\, 神奈川県\, 244-0003\, Japan
CATEGORIES:Fグループ後援
ATTACH;FMTTYPE=image/jpeg:https://fgroup.jp/wp-content/uploads/20190625-e1563462008261.jpg
END:VEVENT
END:VCALENDAR