BEGIN:VCALENDAR
VERSION:2.0
PRODID:-//フェリス女学院大学音楽学部同窓会Fグループ - ECPv6.15.19//NONSGML v1.0//EN
CALSCALE:GREGORIAN
METHOD:PUBLISH
X-WR-CALNAME:フェリス女学院大学音楽学部同窓会Fグループ
X-ORIGINAL-URL:https://fgroup.jp
X-WR-CALDESC:フェリス女学院大学音楽学部同窓会Fグループ のイベント
REFRESH-INTERVAL;VALUE=DURATION:PT1H
X-Robots-Tag:noindex
X-PUBLISHED-TTL:PT1H
BEGIN:VTIMEZONE
TZID:Asia/Tokyo
BEGIN:STANDARD
TZOFFSETFROM:+0900
TZOFFSETTO:+0900
TZNAME:JST
DTSTART:20180101T000000
END:STANDARD
END:VTIMEZONE
BEGIN:VEVENT
DTSTART;TZID=Asia/Tokyo:20190421T180000
DTEND;TZID=Asia/Tokyo:20190421T200000
DTSTAMP:20260426T034119
CREATED:20190319T130340Z
LAST-MODIFIED:20190718T134309Z
UID:9574-1555869600-1555876800@fgroup.jp
SUMMARY:栗田麻子＆ニコラ・デルタイユ　ジョイント・リサイタル
DESCRIPTION:春のささやき　名曲の数々 \n【プログラム】\n・ピアノ\nショパン：子犬のワルツ\nシューマン：トロイメライ\nシューベルト：即興曲 変ト長調 op. 90-3\nヒナステラ：アルゼンチン舞曲 \n・チェロとピアノ\nバッハ：無伴奏組曲第1番 BWV 1007\nエルガー：愛の挨拶\nラフマニノフ：ヴォカリーズ\nクライスラー：美しきロスマリン\nバッハ：G線上のアリア\nピアソラ：le grand Tango \n【出演】\n栗田麻子(p.52回)\nニコラ・デルタイユ(vc.)
URL:https://fgroup.jp/concert/20190421/
LOCATION:Salon Classic\, 東芦屋町3-9\, 芦屋市\, 兵庫県\, 659-0095\, Japan
CATEGORIES:Fグループ会員出演
ATTACH;FMTTYPE=image/png:https://fgroup.jp/wp-content/uploads/20190421-e1563460525992.png
ORGANIZER;CN="The Music Center Japan":MAILTO:info@tmcj.jp
END:VEVENT
END:VCALENDAR