BEGIN:VCALENDAR
VERSION:2.0
PRODID:-//フェリス女学院大学音楽学部同窓会Fグループ - ECPv6.15.19//NONSGML v1.0//EN
CALSCALE:GREGORIAN
METHOD:PUBLISH
X-ORIGINAL-URL:https://fgroup.jp
X-WR-CALDESC:フェリス女学院大学音楽学部同窓会Fグループ のイベント
REFRESH-INTERVAL;VALUE=DURATION:PT1H
X-Robots-Tag:noindex
X-PUBLISHED-TTL:PT1H
BEGIN:VTIMEZONE
TZID:Asia/Tokyo
BEGIN:STANDARD
TZOFFSETFROM:+0900
TZOFFSETTO:+0900
TZNAME:JST
DTSTART:20180101T000000
END:STANDARD
END:VTIMEZONE
BEGIN:VEVENT
DTSTART;TZID=Asia/Tokyo:20190420T150000
DTEND;TZID=Asia/Tokyo:20190420T170000
DTSTAMP:20260426T022123
CREATED:20181215T025508Z
LAST-MODIFIED:20190718T132125Z
UID:9158-1555772400-1555779600@fgroup.jp
SUMMARY:室賀紀子ピアノリサイタル 春の香りにのせて
DESCRIPTION:【プログラム】\nさくらさくら幻想曲\nモーツァルト：トルコ行進曲\nシューベルト：即興曲 op. 90-3\nショパン：バラード1番\nドビュッシー：アラベスク／ベルガマスク組曲／喜びの島 \n【出演】\n室賀紀子(p.59回・院13)
URL:https://fgroup.jp/concert/20190420/
LOCATION:みどりアートパーク (横浜市緑区民文化センター)\, 緑区長津田2-1-3\, 横浜市\, 神奈川県\, 226-0027\, Japan
CATEGORIES:Fグループ後援
ATTACH;FMTTYPE=image/png:https://fgroup.jp/wp-content/uploads/20190420-e1563460482651.png
ORGANIZER;CN="(%E3%81%8A%E5%95%8F%E3%81%84%E5%90%88%E3%82%8F%E3%81%9B) concert_nm":MAILTO:concert_nm@yahoo.co.jp
END:VEVENT
END:VCALENDAR