BEGIN:VCALENDAR
VERSION:2.0
PRODID:-//フェリス女学院大学音楽学部同窓会Fグループ - ECPv6.15.19//NONSGML v1.0//EN
CALSCALE:GREGORIAN
METHOD:PUBLISH
X-WR-CALNAME:フェリス女学院大学音楽学部同窓会Fグループ
X-ORIGINAL-URL:https://fgroup.jp
X-WR-CALDESC:フェリス女学院大学音楽学部同窓会Fグループ のイベント
REFRESH-INTERVAL;VALUE=DURATION:PT1H
X-Robots-Tag:noindex
X-PUBLISHED-TTL:PT1H
BEGIN:VTIMEZONE
TZID:Asia/Tokyo
BEGIN:STANDARD
TZOFFSETFROM:+0900
TZOFFSETTO:+0900
TZNAME:JST
DTSTART:20180101T000000
END:STANDARD
END:VTIMEZONE
BEGIN:VEVENT
DTSTART;TZID=Asia/Tokyo:20190324T140000
DTEND;TZID=Asia/Tokyo:20190324T160000
DTSTAMP:20260426T050300
CREATED:20181206T095855Z
LAST-MODIFIED:20190718T134230Z
UID:9064-1553436000-1553443200@fgroup.jp
SUMMARY:愛するおとなのうた 4 ―懐かしのミュージカル―
DESCRIPTION:→チラシ裏面\n【プログラム】\n雨に歌えば\nシャルウィダンス\n踊りあかそう\n即興曲 op. 90-2 (シューベルト)\n『想い出は銀の笛』～エメラルドグリーンの風(三浦真理)\nほか \n【出演】\n山下美樹(s.49回・院3)　佐々木淑子(fl.36回)　前田佳代(s.55回・院9)　宮木孝枝(s.61回)\n川上由美(p.)　山木千絵(p.)　神尾弥(mar.)
URL:https://fgroup.jp/concert/20190324/
LOCATION:横浜市港北公会堂\, 港北区大豆戸町26-1\, 横浜市\, 神奈川県\, 222-0032\, Japan
CATEGORIES:Fグループ後援
ATTACH;FMTTYPE=image/jpeg:https://fgroup.jp/wp-content/uploads/20190324-1-e1563460055957.jpg
ORGANIZER;CN="ki%E3%81%AE%E4%BC%9A%E4%BA%8B%E5%8B%99%E5%B1%80":MAILTO:kinokai@live.jp
END:VEVENT
END:VCALENDAR