BEGIN:VCALENDAR
VERSION:2.0
PRODID:-//フェリス女学院大学音楽学部同窓会Fグループ - ECPv6.15.19//NONSGML v1.0//EN
CALSCALE:GREGORIAN
METHOD:PUBLISH
X-WR-CALNAME:フェリス女学院大学音楽学部同窓会Fグループ
X-ORIGINAL-URL:https://fgroup.jp
X-WR-CALDESC:フェリス女学院大学音楽学部同窓会Fグループ のイベント
REFRESH-INTERVAL;VALUE=DURATION:PT1H
X-Robots-Tag:noindex
X-PUBLISHED-TTL:PT1H
BEGIN:VTIMEZONE
TZID:Asia/Tokyo
BEGIN:STANDARD
TZOFFSETFROM:+0900
TZOFFSETTO:+0900
TZNAME:JST
DTSTART:20180101T000000
END:STANDARD
END:VTIMEZONE
BEGIN:VEVENT
DTSTART;TZID=Asia/Tokyo:20190210T140000
DTEND;TZID=Asia/Tokyo:20190210T160000
DTSTAMP:20260426T081056
CREATED:20180611T144122Z
LAST-MODIFIED:20190718T134847Z
UID:7457-1549807200-1549814400@fgroup.jp
SUMMARY:大川菜緒 ピアノリサイタル
DESCRIPTION:【プログラム】\nバッハ：イギリス組曲第2番 イ短調 BWV 807\nベートーヴェン：ピアノ･ソナタ第21番 ハ長調 op. 53《ワルトシュタイン》\nフォーレ：ヴァルス･カプリス 第1番イ長調 op. 30／第2番 変ニ長調 op. 38\nシューベルト：3つのピアノ曲 D 946 \n【出演】\n大川菜緒(p.60回・院14)
URL:https://fgroup.jp/concert/20190210/
LOCATION:すみだトリフォニーホール 小ホール\, 墨田区錦糸1-2-3\, 東京都\, 130-0013
CATEGORIES:Fグループ後援
ATTACH;FMTTYPE=image/jpeg:https://fgroup.jp/wp-content/uploads/20190210-e1563459758591.jpg
END:VEVENT
END:VCALENDAR