BEGIN:VCALENDAR
VERSION:2.0
PRODID:-//フェリス女学院大学音楽学部同窓会Fグループ - ECPv6.15.19//NONSGML v1.0//EN
CALSCALE:GREGORIAN
METHOD:PUBLISH
X-WR-CALNAME:フェリス女学院大学音楽学部同窓会Fグループ
X-ORIGINAL-URL:https://fgroup.jp
X-WR-CALDESC:フェリス女学院大学音楽学部同窓会Fグループ のイベント
REFRESH-INTERVAL;VALUE=DURATION:PT1H
X-Robots-Tag:noindex
X-PUBLISHED-TTL:PT1H
BEGIN:VTIMEZONE
TZID:Asia/Tokyo
BEGIN:STANDARD
TZOFFSETFROM:+0900
TZOFFSETTO:+0900
TZNAME:JST
DTSTART:20180101T000000
END:STANDARD
END:VTIMEZONE
BEGIN:VEVENT
DTSTART;TZID=Asia/Tokyo:20190127T140000
DTEND;TZID=Asia/Tokyo:20190127T160000
DTSTAMP:20260426T092706
CREATED:20181103T174404Z
LAST-MODIFIED:20190718T135151Z
UID:8916-1548597600-1548604800@fgroup.jp
SUMMARY:グランベーネ管弦楽団 第2回定期演奏会
DESCRIPTION:→チラシ裏面\n【プログラム】\nJ. シュトラウスⅡ：歌劇「こうもり」序曲\nラフマニノフ：ピアノ協奏曲第2番\nブラームス：交響曲第1番 \n【出演】\n星野聡(cond.教授)　堀由紀子(p.教授)\nグランベーネ管弦楽団
URL:https://fgroup.jp/concert/20190127/
LOCATION:横浜市鶴見区文化センターサルビアホール\, 鶴見区鶴見中央1-31-2シークレイン内\, 横浜市\, 神奈川県\, 230-0051\, Japan
CATEGORIES:音楽学部教員出演
ATTACH;FMTTYPE=image/jpeg:https://fgroup.jp/wp-content/uploads/20190127-1-e1563459938569.jpg
ORGANIZER;CN="%E4%B8%80%E8%88%AC%E7%A4%BE%E5%9B%A3%E6%B3%95%E4%BA%BA %E3%82%B0%E3%83%A9%E3%83%B3%E3%83%99%E3%83%BC%E3%83%8D%E7%AE%A1%E5%BC%A6%E6%A5%BD%E5%9B%A3":MAILTO:granbene.orchestra@gmail.com
END:VEVENT
END:VCALENDAR