BEGIN:VCALENDAR
VERSION:2.0
PRODID:-//フェリス女学院大学音楽学部同窓会Fグループ - ECPv6.15.19//NONSGML v1.0//EN
CALSCALE:GREGORIAN
METHOD:PUBLISH
X-WR-CALNAME:フェリス女学院大学音楽学部同窓会Fグループ
X-ORIGINAL-URL:https://fgroup.jp
X-WR-CALDESC:フェリス女学院大学音楽学部同窓会Fグループ のイベント
REFRESH-INTERVAL;VALUE=DURATION:PT1H
X-Robots-Tag:noindex
X-PUBLISHED-TTL:PT1H
BEGIN:VTIMEZONE
TZID:Asia/Tokyo
BEGIN:STANDARD
TZOFFSETFROM:+0900
TZOFFSETTO:+0900
TZNAME:JST
DTSTART:20170101T000000
END:STANDARD
END:VTIMEZONE
BEGIN:VEVENT
DTSTART;TZID=Asia/Tokyo:20181216T143000
DTEND;TZID=Asia/Tokyo:20181216T163000
DTSTAMP:20260426T115820
CREATED:20180919T112622Z
LAST-MODIFIED:20190718T135530Z
UID:7985-1544970600-1544977800@fgroup.jp
SUMMARY:ヨコハマ・クラシックス vol. 3
DESCRIPTION:【出演】\n伊藤慧(p.57回)\n崎谷直人(vn.)　竹平晃子(語り)
URL:https://fgroup.jp/concert/20181216/
LOCATION:カワイ横浜イベントサロンプラージュ\, 中区相生町6-113\, 横浜市\, 神奈川県\, 231-0012\, Japan
CATEGORIES:Fグループ後援
ATTACH;FMTTYPE=image/png:https://fgroup.jp/wp-content/uploads/20180701-1216-e1563459683410.png
ORGANIZER;CN="K%E3%81%B4%E3%81%82%E3%81%AE%E3%82%AB%E3%83%B3%E3%83%91%E3%83%8B%E3%83%BC":MAILTO:k-piano.company@hb.tp1.jp
END:VEVENT
BEGIN:VEVENT
DTSTART;TZID=Asia/Tokyo:20181215T140000
DTEND;TZID=Asia/Tokyo:20181215T160000
DTSTAMP:20260426T115820
CREATED:20181014T123857Z
LAST-MODIFIED:20190718T135756Z
UID:8634-1544882400-1544889600@fgroup.jp
SUMMARY:上野さゆりリサイタル～パリ留学を終えて～
DESCRIPTION:【プログラム】\nデュパルク：旅へのいざない\nグノー：《ファウスト》～宝石の歌\nビゼー：《真珠採り》～いつかのような暗い夜に\n他 \n【出演】\n上野さゆり(s.61回)　中玲奈(vn.60回)\n前田健生(ten.)　濱野基行(p.)
URL:https://fgroup.jp/concert/20181215/
LOCATION:横浜市鶴見区文化センターサルビアホール\, 鶴見区鶴見中央1-31-2シークレイン内\, 横浜市\, 神奈川県\, 230-0051\, Japan
CATEGORIES:Fグループ後援
ATTACH;FMTTYPE=image/png:https://fgroup.jp/wp-content/uploads/20181215-e1563459880633.png
END:VEVENT
BEGIN:VEVENT
DTSTART;TZID=Asia/Tokyo:20181214T190000
DTEND;TZID=Asia/Tokyo:20181214T210000
DTSTAMP:20260426T115820
CREATED:20180807T135615Z
LAST-MODIFIED:20190718T135917Z
UID:7775-1544814000-1544821200@fgroup.jp
SUMMARY:イルジー・ヴォディチュカ ヴァイオリンリサイタル
DESCRIPTION:【プログラム】\nJ. S. バッハ: 無伴奏パルティータ ホ長調 BWV 1006\nモーツァルト: ヴァイオリンソナタ ホ短調 K. 304\nスメタナ: 我が故郷〜2つの二重奏曲\nヴィエニャフスキ: 華麗なるポロネーズ 第2番 イ長調 op. 21\nサン=サーンス: 序奏とロンド・カプリチオーソ op. 28\nサラサーテ: カルメン幻想曲  op. 25 \n【出演】\n青島陽子(p.42回)\nイルジー・ヴォディチュカ(Vn.)
URL:https://fgroup.jp/concert/20181214/
LOCATION:横浜市戸塚区民文化センターさくらプラザホール\, 戸塚区戸塚町16−17\, 横浜市\, 神奈川県\, 244-0003\, Japan
CATEGORIES:Fグループ後援
ATTACH;FMTTYPE=image/jpeg:https://fgroup.jp/wp-content/uploads/20181214-1.jpg
END:VEVENT
BEGIN:VEVENT
DTSTART;TZID=Asia/Tokyo:20181130T181500
DTEND;TZID=Asia/Tokyo:20181130T203000
DTSTAMP:20260426T115820
CREATED:20180920T010115Z
LAST-MODIFIED:20190718T140637Z
UID:7996-1543601700-1543609800@fgroup.jp
SUMMARY:Fグループ・コンサート 「落合敦教授をお迎えしてふれっしゅさんと共に」
DESCRIPTION:【演奏者とプログラム】\n小出真琴(s.67回)　鈴木彩音(p.63回・院17)\n　ロドリーゴ：４つの愛のマドリガル　他 \n吉川ゆり子(p.67回)\n　モンポウ：ショパンの主題による変奏曲 \nFグループアンサンブル Coro・Felice／大橋多美子(cond.20回)　浜田真代(p.52回)\n　谷川俊太郎の詩による「ことばあそびうた」より\n　三善晃　うとうとう／かっぱ／ことこ\n　新実徳英　いるか・かぞえうた　他 \n落合敦(p.教授)\n　モーツァルト：きらきら星の主題による12の変奏曲 ハ長調 K.265\n　ドビュッシー：ベルガマスク組曲より　月の光\n　J. S. バッハ(E. ペトリ編)：羊は安らかに草を食み\n　落合敦編：即興演奏　クリスマスによせて\n　バッハ、モーツァルト、ショパン、ドビュッシー、ラフマニノフ　他\n　大作曲家達の作品風のアレンジで
URL:https://fgroup.jp/concert/20181130/
LOCATION:ザ・コンサートホール (電気文化会館)\, 中区栄2-2-5\, 名古屋市\, 愛知県\, 460-0008\, Japan
CATEGORIES:Fグループ支部主催
ATTACH;FMTTYPE=image/jpeg:https://fgroup.jp/wp-content/uploads/20181130.jpg
ORGANIZER;CN="F%E3%82%B0%E3%83%AB%E3%83%BC%E3%83%97%E4%B8%AD%E9%83%A8%E6%94%AF%E9%83%A8":MAILTO:chubu@fgroup.jp
END:VEVENT
BEGIN:VEVENT
DTSTART;TZID=Asia/Tokyo:20181125T140000
DTEND;TZID=Asia/Tokyo:20181125T160000
DTSTAMP:20260426T115820
CREATED:20180608T233700Z
LAST-MODIFIED:20190718T140719Z
UID:7209-1543154400-1543161600@fgroup.jp
SUMMARY:愛するおとなのうた 3
DESCRIPTION:→チラシ裏面\n【プログラム】\nキャンディーズ・メドレー\nTomorrow\nエーデルワイス\nブラック・インヴェンション (三浦真理 作曲)\n神の森 (佐藤信人 作曲)\nほか \n【出演】\n山下美樹(s.49回・院3)　佐々木淑子(fl.36回)　鬼頭久美子(p.49回)\nDrops: 前田佳代(s.55回・院9)　宮木孝枝(s.61回)\n山木千絵(p)　神尾弥(mar)
URL:https://fgroup.jp/concert/20181125/
LOCATION:横浜市港北公会堂\, 港北区大豆戸町26-1\, 横浜市\, 神奈川県\, 222-0032\, Japan
CATEGORIES:Fグループ後援
ATTACH;FMTTYPE=image/jpeg:https://fgroup.jp/wp-content/uploads/20181125-e1563459854683.jpg
ORGANIZER;CN="ki%E3%81%AE%E4%BC%9A%E4%BA%8B%E5%8B%99%E5%B1%80":MAILTO:kinokai@live.jp
END:VEVENT
BEGIN:VEVENT
DTSTART;TZID=Asia/Tokyo:20181124T120000
DTEND;TZID=Asia/Tokyo:20181124T130000
DTSTAMP:20260426T115820
CREATED:20181025T151945Z
LAST-MODIFIED:20190718T140829Z
UID:8787-1543060800-1543064400@fgroup.jp
SUMMARY:赤坂ベヒシュタインサロン ランチタイムコンサート vol. 14
DESCRIPTION:【プログラム】\nショパン：幻想曲 op. 49\nリスト：リゴレットパラフレーズ\nほか \n【出演】フェリス女学院大学音楽学部\n長濱瑠美(p.大学2年)\n黒川浩(p.教授)
URL:https://fgroup.jp/concert/20181124/
LOCATION:赤坂ベヒシュタイン・センター\, 港区赤坂6-1-20 国際新赤坂ビル西館B1F\, 東京都\, 107-0052\, Japan
CATEGORIES:Fグループ会員出演,音楽学部教員出演
ATTACH;FMTTYPE=image/jpeg:https://fgroup.jp/wp-content/uploads/20181124-e1563459890959.jpg
ORGANIZER;CN="%E8%B5%A4%E5%9D%82%E3%83%99%E3%83%92%E3%82%B7%E3%83%A5%E3%82%BF%E3%82%A4%E3%83%B3%E3%83%BB%E3%82%BB%E3%83%B3%E3%82%BF%E3%83%BC":MAILTO:aka-salon@euro-piano.co.jp
END:VEVENT
BEGIN:VEVENT
DTSTART;TZID=Asia/Tokyo:20181116T190000
DTEND;TZID=Asia/Tokyo:20181116T210000
DTSTAMP:20260426T115820
CREATED:20180611T143511Z
LAST-MODIFIED:20190718T141113Z
UID:7443-1542394800-1542402000@fgroup.jp
SUMMARY:冨貴亜里紗、ショパンを弾く
DESCRIPTION:【プログラム】\nシューベルト：ピアノソナタ第13番イ長調 op. 120\nドビュッシー：喜びの島\nショパン：\nエチュード 第12番『革命』op. 10-12\nノクターン 第1番 op.9-1／第2番 op. 9-2／第8番 op. 27-2\nマズルカ第11番 op. 17-2／第23番 op. 33-2／第41番 op. 63-3\nバラード第4番 op. 52\n子守唄 op. 57\n他 \n【出演】\n冨貴亜里紗(p.56回)
URL:https://fgroup.jp/concert/20181116/
LOCATION:和光大学ポプリホール鶴川\, 能ヶ谷1-2-1\, 町田市\, 東京都\, 195-0053\, Japan
CATEGORIES:Fグループ後援
ATTACH;FMTTYPE=image/jpeg:https://fgroup.jp/wp-content/uploads/20181116.jpeg
END:VEVENT
BEGIN:VEVENT
DTSTART;TZID=Asia/Tokyo:20181114T143000
DTEND;TZID=Asia/Tokyo:20181114T163000
DTSTAMP:20260426T115820
CREATED:20181025T152717Z
LAST-MODIFIED:20190718T141156Z
UID:8790-1542205800-1542213000@fgroup.jp
SUMMARY:2018年 教会コンサート 時は行く
DESCRIPTION:～ドビュッシー没100年に寄せて～ \n【プログラム】\nグレゴリオ聖歌\n・死者のためのミサ　レクイエム\n・受難と復活の祈り\n・マリア賛歌　サルヴェ・レジーナ\n日本語による朗誦\n・詩篇 §139 私が目覚める時…／§23 主は私の牧者…／§98 新しき歌を…\nドビュッシー作品演奏\n・歌曲：星の夜／木馬／ビリティスの歌\n・器楽：夢／シランクス\nほか \n【出演】立木稠子(MS.指導)\n聖歌隊：小方元美　高橋弥乃(55回)　高山奈夕子(43回)　仲山みどり　水谷歌織(51回)\n独唱：白藤亮子(49回)　本多ゆみ　松浦真理(34回)　矢島亜弥(53回)\nピアノ：大塚優子(52回・院6)　片野敦子(34回)　藤原恭子(49回)\nフルート：佐々木淑子(36回)
URL:https://fgroup.jp/concert/20181114/
LOCATION:日本福音ルーテル東京教会\, 新宿区大久保1-14-14\, 東京都\, 169-0072\, 日本
CATEGORIES:Fグループ会員出演
ATTACH;FMTTYPE=image/jpeg:https://fgroup.jp/wp-content/uploads/20181114-e1563459900307.jpg
END:VEVENT
BEGIN:VEVENT
DTSTART;TZID=Asia/Tokyo:20181026T190000
DTEND;TZID=Asia/Tokyo:20181026T210000
DTSTAMP:20260426T115820
CREATED:20180919T105802Z
LAST-MODIFIED:20190718T141241Z
UID:7974-1540580400-1540587600@fgroup.jp
SUMMARY:横浜・山手に想いをよせて
DESCRIPTION:→チラシ裏面\n渡辺淳一文学館ドラマティックライヴ\n～フェリス女学院大学音楽学部卒業生による～ \n【プログラム】\nこの道\n雪の降る街を\nタイスの瞑想曲\n小さな空\n踊り明かそう\nアメイジング・グレイス\nYou raise me up\nほか\n※コンサート収益の一部を「福島の子どもたちを守る会・北海道」への寄付といたします \n【出演】\n杉田知子(vn.31回)　内山佳子(s.43回)　Natsuki(vo.42回)　工藤羊子(p.org.30回)\n福由樹子(p.賛助)
URL:https://fgroup.jp/concert/20181026-2/
LOCATION:渡辺淳一文学館\, 中央区南12条西6丁目414\, 札幌市\, 北海道\, 064-0912
CATEGORIES:Fグループ支部主催
ATTACH;FMTTYPE=image/jpeg:https://fgroup.jp/wp-content/uploads/20181026B-1.jpg
END:VEVENT
BEGIN:VEVENT
DTSTART;TZID=Asia/Tokyo:20181026T190000
DTEND;TZID=Asia/Tokyo:20181026T210000
DTSTAMP:20260426T115820
CREATED:20180614T165653Z
LAST-MODIFIED:20181026T151431Z
UID:7492-1540580400-1540587600@fgroup.jp
SUMMARY:フェリスアーベント(2018)
DESCRIPTION:【プログラム】\nシュテルツェル：あなたがそばにおられるなら (アンナ・マグダレーナ・バッハのための音楽帳1725より)\nドヴォルザーク：ジプシーの歌　op. 55\nドビュッシー：前奏曲集第1集\nほか \n【出演】\n田口純子(p.24回)\n藤田直子(s.32回)　小倉一美(p.30回)
URL:https://fgroup.jp/concert/20181026/
LOCATION:フェリスホール\, 中区山手町37\, 横浜市\, 神奈川県\, 231-0862\, Japan
CATEGORIES:Fグループ主催
ATTACH;FMTTYPE=image/jpeg:https://fgroup.jp/wp-content/uploads/20181026c.jpg
END:VEVENT
BEGIN:VEVENT
DTSTART;TZID=Asia/Tokyo:20181020T140000
DTEND;TZID=Asia/Tokyo:20181020T160000
DTSTAMP:20260426T115820
CREATED:20180523T010314Z
LAST-MODIFIED:20181026T142835Z
UID:7287-1540044000-1540051200@fgroup.jp
SUMMARY:畑中紫甫 日本歌曲リサイタル
DESCRIPTION:第17回中田喜直記念コンクール大賞受賞記念 \n【出演】\n畑中紫甫(s.60回・院14)　鈴木彩音(p.63回・院17)
URL:https://fgroup.jp/concert/20181020/
LOCATION:横浜市鶴見区文化センターサルビアホール\, 鶴見区鶴見中央1-31-2シークレイン内\, 横浜市\, 神奈川県\, 230-0051\, Japan
CATEGORIES:Fグループ後援
ATTACH;FMTTYPE=image/jpeg:https://fgroup.jp/wp-content/uploads/20181020-e1563459614930.jpg
END:VEVENT
BEGIN:VEVENT
DTSTART;TZID=Asia/Tokyo:20181013T190000
DTEND;TZID=Asia/Tokyo:20181013T210000
DTSTAMP:20260426T115820
CREATED:20180919T112035Z
LAST-MODIFIED:20181026T142803Z
UID:7982-1539457200-1539464400@fgroup.jp
SUMMARY:秋の憩いのピアノコンサート vol. 2 ～スイスからの風～
DESCRIPTION:【プログラム】\nショパン：ワルツ第6番〈仔犬のワルツ〉op. 64-1／第14番 op. post.\nスケルツォ第1番 op. 20／第4番 op. 54\nシューベルト：即興曲第2番／第3番 op. 90-2\,3\nリスト：軽やかさ／タランテラ\nヒナステラ：アルゼンチン舞曲\nドヴォルザーク：スラブ舞曲 op. 72より\nほか \n【出演】\n栗田麻子(p.52回)　北村まりえ(p.58回・院12)
URL:https://fgroup.jp/concert/20181013/
LOCATION:リブロホール\, 渋谷区代々木3-35-4 ミネビル1Ｆ\, 東京都\, 03-3372-4531\, Japan
CATEGORIES:Fグループ後援
ATTACH;FMTTYPE=image/jpeg:https://fgroup.jp/wp-content/uploads/20181013e.jpg
END:VEVENT
BEGIN:VEVENT
DTSTART;TZID=Asia/Tokyo:20180929T140000
DTEND;TZID=Asia/Tokyo:20180929T160000
DTSTAMP:20260426T115820
CREATED:20180608T233639Z
LAST-MODIFIED:20181001T094838Z
UID:7371-1538229600-1538236800@fgroup.jp
SUMMARY:Ayane Suzuki Piano Recital #2
DESCRIPTION:【プログラム】\n当日案内 \n【出演】\n鈴木彩音(p.63回・院17)
URL:https://fgroup.jp/concert/20180929/
LOCATION:横浜市イギリス館\, 中区山手町115-3\, 横浜市\, 神奈川県\, 231-0862\, Japan
CATEGORIES:Fグループ後援
ATTACH;FMTTYPE=image/jpeg:https://fgroup.jp/wp-content/uploads/20180929-e1538386607781.jpg
END:VEVENT
BEGIN:VEVENT
DTSTART;TZID=Asia/Tokyo:20180928T190000
DTEND;TZID=Asia/Tokyo:20180928T204000
DTSTAMP:20260426T115820
CREATED:20180919T113441Z
LAST-MODIFIED:20181001T094813Z
UID:7987-1538161200-1538167200@fgroup.jp
SUMMARY:夜のひとときクラシック DUO 白濱櫻子&堀由紀子
DESCRIPTION:→チラシ裏面\n【プログラム】\nタルティーニ：ヴァイオリンソナタト短調 op. 1-10 『見捨てられたディド』\nラヴェル：ヴァイオリンソナタ\nブラームス：ヴァイオリンソナタ第1番ト長調『雨の歌』op. 78 \n【出演】\n堀由紀子(p.教授)\n白濱櫻子(vn.)
URL:https://fgroup.jp/concert/20180928/
LOCATION:品川区立五反田文化センター 音楽ホール\, 西五反田 6-5-1\, 東京都\, 141-0031\, Japan
CATEGORIES:音楽学部教員出演
ATTACH;FMTTYPE=image/jpeg:https://fgroup.jp/wp-content/uploads/20180928-e1538386639987.jpg
END:VEVENT
BEGIN:VEVENT
DTSTART;TZID=Asia/Tokyo:20180927T183000
DTEND;TZID=Asia/Tokyo:20180927T200000
DTSTAMP:20260426T115820
CREATED:20180807T142747Z
LAST-MODIFIED:20181015T232509Z
UID:7784-1538073000-1538078400@fgroup.jp
SUMMARY:第7回古賀記念音楽祭
DESCRIPTION:【内容・プログラム】\nバッハ/無伴奏ヴァイオリンのためのパルティータ第3番BWV1006よりガヴォット\nドヴォルザーク/ユーモレスク\nチャイコフスキー/メロディ\nテレマン/2つのヴァイオリンのためのガリバー組曲\nモーツァルト/歌劇《魔笛》より　（ヴァイオリン2重奏） \n【出演】\n土屋友紀（48回・院3回、Pf.Sop）小森陽子（Vn.）土屋優喜（Vn.）
URL:https://fgroup.jp/concert/20180927/
LOCATION:クロスストリート\, 中区伊勢佐木町4-123\, 横浜市\, 神奈川県\, 231-0045\, Japan
CATEGORIES:Fグループ後援
ATTACH;FMTTYPE=image/png:https://fgroup.jp/wp-content/uploads/1-e1538386575113.png
END:VEVENT
BEGIN:VEVENT
DTSTART;TZID=Asia/Tokyo:20180923T140000
DTEND;TZID=Asia/Tokyo:20180923T160000
DTSTAMP:20260426T115820
CREATED:20180919T114934Z
LAST-MODIFIED:20181001T094725Z
UID:7990-1537711200-1537718400@fgroup.jp
SUMMARY:第5回 フェリスフラウエンコーアコンサート
DESCRIPTION:【出演】\n井上アンナ(67回)　遠藤美和(院16)　大島沙友里(65回)　川嵜香織(57回・院11)　神戸裕衣(61回)　小出真琴(67回)　佐藤ゆい(66回)　佐藤麗奈(67回)　杉本可菜(63回)　杉本慈(65回)　高橋真衣子(64回)　長島優花（67回）荷田直美(64回)　濵阿矢乃(院16)　宮川真悠子(66回)　宮木孝枝(61回)\n濱田志穂(p.59回・院13)　鈴木彩音(p.63回・院17)　原田真衣子(p.67回)
URL:https://fgroup.jp/concert/20180923/
LOCATION:かなっくホール（横浜市神奈川区民文化センター）\, 神奈川区東神奈川 1-10-1\, 横浜市\, 神奈川県\, 221-0044\, Japan
CATEGORIES:Fグループ会員出演
ATTACH;FMTTYPE=image/jpeg:https://fgroup.jp/wp-content/uploads/20180923-e1537761829782.jpg
END:VEVENT
BEGIN:VEVENT
DTSTART;TZID=Asia/Tokyo:20180916T140000
DTEND;TZID=Asia/Tokyo:20180916T160000
DTSTAMP:20260426T115820
CREATED:20180807T140908Z
LAST-MODIFIED:20181025T042254Z
UID:7517-1537106400-1537113600@fgroup.jp
SUMMARY:グループ’75コンサート
DESCRIPTION:【プログラム】\n声楽・ピアノ・チェロ・連弾・コーラスによるコンサート\n「マ・メール・ロア」より眠りの森の美女のパヴァーヌ（ラヴェル）他 \n【出演】\n桑原妙子(cond.10回)　榊原緑(28回)　鎌田淳子(36回)　鈴木範子(15回)　髙山奈夕子(43回)　森康子(p.29回)　谷坂仁美(p.54回・院8)　磯野由美(vc.57回)\n中根希子(p) 他
URL:https://fgroup.jp/concert/20180916/
LOCATION:横浜市戸塚区民文化センターさくらプラザホール\, 戸塚区戸塚町16−17\, 横浜市\, 神奈川県\, 244-0003\, Japan
CATEGORIES:Fグループ後援
ATTACH;FMTTYPE=image/png:https://fgroup.jp/wp-content/uploads/20180916-e1537761809496.png
END:VEVENT
BEGIN:VEVENT
DTSTART;TZID=Asia/Tokyo:20180915T150000
DTEND;TZID=Asia/Tokyo:20180915T173000
DTSTAMP:20260426T115820
CREATED:20180614T164756Z
LAST-MODIFIED:20181001T094645Z
UID:7490-1537023600-1537032600@fgroup.jp
SUMMARY:Fグループ ジョイントコンサート(2018)
DESCRIPTION:【出演者とプログラム】  \n豊田有美(s.60回・院14)／漆間有紀(p.58回・院12)／高柳圭(ten.賛助)\n　ヴェルディ : 歌劇『椿姫』～「なんて青白い顔～ある日幸せに満ちたように」他 \n柳沢真美(p.63回・院18)\n　シューマン：幻想曲 op. 17 第1楽章 \n平沼由季(p.50回・院4)\n　マルタン : 8つのプレリュード～第1\, 2\, 3番　他 \n太田三美(s.35回)／堀内陽子(p.31回)／桃原健一(ob.賛助)\n　ドニゼッティ : 歌劇『シャモニーのリンダ』～「この心の光」他 \n樋口かおり(p.44回)[IP]／安藤美保(p.44回)[IIP]\n　モーツァルト：2台のピアノのためのソナタ ニ長調 K. 448 \n樺沢宏美(p.49回・院3)[IP]／松葉真理子(p.48回・院2)[IIP]\n　ラフマニノフ : 組曲 第2番 op. 17より
URL:https://fgroup.jp/concert/20180915/
LOCATION:フェリスホール\, 中区山手町37\, 横浜市\, 神奈川県\, 231-0862\, Japan
CATEGORIES:Fグループ主催,ジョイントコンサート
ATTACH;FMTTYPE=image/jpeg:https://fgroup.jp/wp-content/uploads/20180915-e1537761903227.jpg
END:VEVENT
BEGIN:VEVENT
DTSTART;TZID=Asia/Tokyo:20180902T143000
DTEND;TZID=Asia/Tokyo:20180902T163000
DTSTAMP:20260426T115820
CREATED:20180820T123710Z
LAST-MODIFIED:20180924T040712Z
UID:7876-1535898600-1535905800@fgroup.jp
SUMMARY:ヨコハマ・クラシックス vol. 2
DESCRIPTION:【演奏予定曲】\nメンデルスゾーン：無言歌より「甘い思い出」（クラリネット版）\nショパン：パガニーニの思い出、ポロネーズ（ピアノソロ）\nガーデ：幻想小曲集\nヴィドール：序奏とロンド\n中田喜直：夏の思い出（ピアノソロ）\nテンプルトン：ポケットサイズソナタ　ほか \n【出演】\n伊藤慧(p.57回)\n齋藤雄介(cl.)
URL:https://fgroup.jp/concert/20180902/
LOCATION:カワイ横浜イベントサロンプラージュ\, 中区相生町6-113\, 横浜市\, 神奈川県\, 231-0012\, Japan
CATEGORIES:Fグループ後援
ATTACH;FMTTYPE=image/png:https://fgroup.jp/wp-content/uploads/20180701-1216-e1563459683410.png
ORGANIZER;CN="K%E3%81%B4%E3%81%82%E3%81%AE%E3%82%AB%E3%83%B3%E3%83%91%E3%83%8B%E3%83%BC":MAILTO:k-piano.company@hb.tp1.jp
END:VEVENT
BEGIN:VEVENT
DTSTART;TZID=Asia/Tokyo:20180901T150000
DTEND;TZID=Asia/Tokyo:20180901T150000
DTSTAMP:20260426T115820
CREATED:20180727T055424Z
LAST-MODIFIED:20180902T012742Z
UID:7728-1535814000-1535814000@fgroup.jp
SUMMARY:YMSA ワンコインコンサート
DESCRIPTION:フルート クラリネット ピアノ\nアンサンブル シグナル \n【プログラム】\n踊り明かそう\nサウンド・オブ・ミュージックより\nほか \n【出演】\n指尾仁美(p.MA.63回)\n北爪友紀子(cl)　吉川真登(fl)
URL:https://fgroup.jp/concert/20180901/
LOCATION:横須賀市はまゆう会館\, 衣笠栄町1-47\, 横須賀市\, 神奈川県\, 238-0031\, Japan
CATEGORIES:Fグループ会員出演
ATTACH;FMTTYPE=image/jpeg:https://fgroup.jp/wp-content/uploads/20180901-e1535851685589.jpg
END:VEVENT
BEGIN:VEVENT
DTSTART;VALUE=DATE:20180821
DTEND;VALUE=DATE:20180828
DTSTAMP:20260426T115820
CREATED:20180718T154620Z
LAST-MODIFIED:20180902T012654Z
UID:7595-1534809600-1535414399@fgroup.jp
SUMMARY:偉大なる芸術家の思い出 没後10年 山岡優子先生を偲んで
DESCRIPTION:写真の展示と音楽やトークによるメモリアル企画 \n[メモリアルイベント1]　 山岡先生門下生達の演奏\n8月21日(火) 15:00-16:00\n8月22日(水)-25日(土)\,27日(月) 13:00-14:00\n【出演】一宮明代　伊東晴子　戒重守　戒重朋香　黒川知栄子　鈴木陽子　野口公子　林今日子　日比谷友妃子　山本久子　ほか \n☆演奏スケジュール(外部リンク)　(8/21更新)\n8/21（火）　黒川知栄子（25回）\n8/22（水）　楯　睦子（32回）\n8/23（木）　北原葉子（39回・本学非常勤講師）、田村郁子（32回）\n8/25（土）　林今日子（本学非常勤講師）、伊東晴子（20回）[メモリアルイベント2]　 思い出のトークイベント\n8月26日(日) 14:00-16:00\n【出演】井上道義　水野佐知香　堀了介　伊藤恵　ほか \n【開館時間】10:00-18:00 (初日14:00- 最終日-15:00)
URL:https://fgroup.jp/concert/20180821-27/
LOCATION:横浜市民ギャラリー展示室 2F\, 西区宮崎町26-1\, 横浜市\, 神奈川県\, 220-0031\, Japan
CATEGORIES:Fグループ後援,音楽学部教員出演
ATTACH;FMTTYPE=image/jpeg:https://fgroup.jp/wp-content/uploads/20180821-27-1-e1535765274809.jpg
END:VEVENT
BEGIN:VEVENT
DTSTART;TZID=Asia/Tokyo:20180819T133000
DTEND;TZID=Asia/Tokyo:20180819T153000
DTSTAMP:20260426T115820
CREATED:20180412T003045Z
LAST-MODIFIED:20180902T012233Z
UID:7023-1534685400-1534692600@fgroup.jp
SUMMARY:音の旅 vol. ４ ～紡いでゆく物語～
DESCRIPTION:【曲目】\nフォーレ：ワルツカプリス第1番 イ長調 op. 30／第2番 変ニ長調 op. 38\nハイドン：ピアノソナタ ヘ長調 Hob.XVI-23\nショパン：バラード第2番 ヘ長調 op. 38／第3番 変イ長調 op. 47\nブラームス：6つの小品 op. 118～\nリスト：バラード第2番ロ短調 S.171\nプロコフィエフ：《ロメオとジュリエット》ピアノのための10の小品 op. 75～ \n【出演】\n山本紗英子(p.59回・院13)　永井由希(p.59回・院13)　猪口真理(p.59回・Dip.)　大川菜緒(p.60回・院14)　成田有紀乃(p.60回・Dip.)　小野寺麻耶(p.65回)
URL:https://fgroup.jp/concert/20180819/
LOCATION:sonorium\, 杉並区和泉3-53-16\, 東京都\, 168-0063\, Japan
CATEGORIES:Fグループ後援
ATTACH;FMTTYPE=image/jpeg:https://fgroup.jp/wp-content/uploads/20180819B-e1535765258258.jpg
ORGANIZER;CN="(%E5%95%8F%E3%81%84%E5%90%88%E3%82%8F%E3%81%9B) fughetta":MAILTO:fughetta5@gmail.com
END:VEVENT
BEGIN:VEVENT
DTSTART;TZID=Asia/Tokyo:20180819T110000
DTEND;TZID=Asia/Tokyo:20180819T153000
DTSTAMP:20260426T115820
CREATED:20180608T233612Z
LAST-MODIFIED:20180902T012207Z
UID:7207-1534676400-1534692600@fgroup.jp
SUMMARY:愛するこどものうた 18 ―ユートピアをもとめて―
DESCRIPTION:→チラシ裏面\n【プログラム】\n0歳からの赤ちゃんと子育て中のパパ・ママのためのクラシックコンサート。ご家族連れで一日楽しんでいただけます。\n11:00～\n　ドレミのうた\n　シンコペイテッドクロック(アンダーソン)\n　月の光(ドビュッシー)\n　犬のおまわりさん\n　森のくまさん\n　オカリナのリーナ\n14:00～\n　となりのトトロ\n　夢を叶えてドラえもん\n　子犬のビンゴ物語(三浦真理)\n　God help the Outcasts～『ノートルダムの鐘』\n　小さな世界\n　いつの日に王子様が\n　ほか \n【出演】\n山下美樹(s.49回・院3)　佐々木淑子(fl.36回)　前田佳代(s.55回・院9)　宮木孝枝(s.61回)　古川亜希(s.57回)　高橋真衣子(s.64回)　服部亜弥(s.66回)　\n大竹紗也夏(vo)　豊田花梨(vo)　山木千絵(p)　川上由美(p)　神尾弥(mar)　角田玲子(p.ryth)
URL:https://fgroup.jp/concert/20180819-2/
LOCATION:横浜市港北公会堂\, 港北区大豆戸町26-1\, 横浜市\, 神奈川県\, 222-0032\, Japan
CATEGORIES:Fグループ後援
ATTACH;FMTTYPE=image/jpeg:https://fgroup.jp/wp-content/uploads/20180819A-e1535765243505.jpg
ORGANIZER;CN="ki%E3%81%AE%E4%BC%9A%E4%BA%8B%E5%8B%99%E5%B1%80":MAILTO:kinokai@live.jp
END:VEVENT
BEGIN:VEVENT
DTSTART;TZID=Asia/Tokyo:20180803T193000
DTEND;TZID=Asia/Tokyo:20180803T193000
DTSTAMP:20260426T115820
CREATED:20180708T041921Z
LAST-MODIFIED:20180807T163511Z
UID:7524-1533324600-1533324600@fgroup.jp
SUMMARY:クラシックとジャズ競演の夕べ
DESCRIPTION:【出演】\n足立さやか(mc & vo.58回)\n北村まりえ(p.58回・院12)　黒川浩(p.教授)\n渡辺かづき(pf)　中村健吾(bs) 宇山満隆(ds)　山野友佳子(pf)
URL:https://fgroup.jp/concert/20180803-2/
LOCATION:六本木キーストンクラブ\, 港区六本木7-4-12 ジャスミンビル2F\, 東京都\, 106-0032\, Japan
CATEGORIES:Fグループ後援
ATTACH;FMTTYPE=image/jpeg:https://fgroup.jp/wp-content/uploads/20180803-e1533659549717.jpg
END:VEVENT
BEGIN:VEVENT
DTSTART;TZID=Asia/Tokyo:20180728T140000
DTEND;TZID=Asia/Tokyo:20180728T153000
DTSTAMP:20260426T115820
CREATED:20180412T003125Z
LAST-MODIFIED:20190803T014649Z
UID:7018-1532786400-1532791800@fgroup.jp
SUMMARY:馬車道ティータイムクラシック 42 REINA#2
DESCRIPTION:中玲奈ヴァイオリンリサイタル2\n【プログラム】\nハチャトリアン：ヴァイオリン協奏曲\nブラームス：ヴァイオリン協奏曲\n他　  \n【出演】\n中玲奈(vn.60回)　鈴木彩音(p.63回・院17)
URL:https://fgroup.jp/concert/20180728/
LOCATION:カワイ横浜イベントサロンプラージュ\, 中区相生町6-113\, 横浜市\, 神奈川県\, 231-0012\, Japan
CATEGORIES:Fグループ後援
ATTACH;FMTTYPE=image/jpeg:https://fgroup.jp/wp-content/uploads/20180728-e1533130382429.jpg
END:VEVENT
BEGIN:VEVENT
DTSTART;TZID=Asia/Tokyo:20180727T180000
DTEND;TZID=Asia/Tokyo:20180727T200000
DTSTAMP:20260426T115820
CREATED:20180511T170027Z
LAST-MODIFIED:20190803T014649Z
UID:7187-1532714400-1532721600@fgroup.jp
SUMMARY:桐藤友妃子＆十和田英子ピアノデュオリサイタル
DESCRIPTION:【プログラム】 \nピアノソロ\nベートーヴェン　ピアノソナタ「月光」\nショパン　ノクターン　No.8\nアルベニス「スペイン組曲」 \n連弾\nブラームス　ワルツOp.39より\nドボルジャーク　スラヴ舞曲Op.72より\nドビュッシー　小組曲 \n【出演】\n桐藤友妃子(p.43回)\n十和田英子(p)
URL:https://fgroup.jp/concert/20180727/
LOCATION:MUSICASA (ムジカーザ)\, 渋谷区西原3-33-1\, 東京都\, 151-0066\, Japan
CATEGORIES:Fグループ後援
END:VEVENT
BEGIN:VEVENT
DTSTART;TZID=Asia/Tokyo:20180719T190000
DTEND;TZID=Asia/Tokyo:20180719T210000
DTSTAMP:20260426T115820
CREATED:20180208T073753Z
LAST-MODIFIED:20190803T014649Z
UID:6662-1532026800-1532034000@fgroup.jp
SUMMARY:RIE MATSUOKA SOPRANO RECITAL Vol. 7 Rebirth
DESCRIPTION:→チラシ裏面\n【プログラム】\n中田喜直童謡曲集\nワーグナー：ヴェーゼンドンク歌曲集\nモーツァルト：《ドン・ジョヴァンニ》～「手を取り合って」\nヴェルディ：《ドン・カルロ》～「一人寂しく眠ろう」／《オテロ》～「柳の歌〜アヴェ・マリア」\n他 \n【出演】\n松岡理枝(s.35回)\n名取かほり(p)　佐竹敬雄(b)
URL:https://fgroup.jp/concert/20180719/
LOCATION:ルーテル市ヶ谷ホール\, 新宿区市谷砂土原町1-1\, 東京都\, 162-0842\, Japan
CATEGORIES:Fグループ後援
ATTACH;FMTTYPE=image/jpeg:https://fgroup.jp/wp-content/uploads/20180719-1-e1532403234486.jpg
ORGANIZER;CN="%E3%83%B4%E3%82%A9%E3%83%BC%E3%82%AB%E3%83%AB%E3%82%B9%E3%82%BF%E3%82%B8%E3%82%AA%E3%83%BB%E3%83%91%E3%83%BC%E3%83%AB%E3%83%8F%E3%82%A6%E3%82%B9":MAILTO:pearlhouse2009@gmail.com
END:VEVENT
BEGIN:VEVENT
DTSTART;TZID=Asia/Tokyo:20180714T180000
DTEND;TZID=Asia/Tokyo:20180714T200000
DTSTAMP:20260426T115820
CREATED:20180706T121938Z
LAST-MODIFIED:20190803T014649Z
UID:7519-1531591200-1531598400@fgroup.jp
SUMMARY:下條恵理子 デビュ−2周年記念コンサート
DESCRIPTION:虹のストーリーシリーズ vol. 7\n【プログラム】\n太陽　　ショパン：ノクターン第2番／モーツァルト：きらきら星変奏曲／パッヘルベル：カノン／シューマン＝リスト：献呈／ドビュッシー：月の光　\n雨　　ベートーヴェン：エリーゼのために／ラフマニノフ：鐘\n虹　　ショパン：アンダンテ・スピアナートと華麗なる大ポロネーズ\nジャンルを越えたあなたにとっての「出逢えてよかった」リクエスト曲\nほか 　 \n【出演】\n下條恵理子(p.58回・院12)
URL:https://fgroup.jp/concert/20180714/
LOCATION:田園調布ピアノサロンノア\, 大田区田園調布3-5-10\, 東京都\, 145-0071\, Japan
CATEGORIES:Fグループ後援
ATTACH;FMTTYPE=image/jpeg:https://fgroup.jp/wp-content/uploads/20180714-e1532403287610.jpg
END:VEVENT
BEGIN:VEVENT
DTSTART;TZID=Asia/Tokyo:20180708T140000
DTEND;TZID=Asia/Tokyo:20180708T160000
DTSTAMP:20260426T115820
CREATED:20180613T122751Z
LAST-MODIFIED:20190803T014649Z
UID:7475-1531058400-1531065600@fgroup.jp
SUMMARY:Fグループジョイントコンサート in 福岡
DESCRIPTION:【演奏者とプログラム】 \n山本紗英子(p.59回・院13)　\n　リスト：ハンガリー狂詩曲第2番 嬰ハ短調 \n松本苑佳(fl.63回)\n　シューベルト：「しおれた花」による変奏曲 ホ短調 op. 160 / D 802　他 \n吉田明未(s.62回)\n　バーンスタイン：《キャンディード》～着飾って、きらびやかに　他 \n福泉勝栄(fl.37回)\n　ライネッケ：フルートコンチェルト ニ長調　他 \n星野聡(br.教授)\n　中田喜直 (山之口貘 作詞) ：「結婚」　他 \n黒川浩(p.教授)／漆間有紀(p.58回・院12)\n　ベートーヴェン：交響曲第7番 第一楽章 \nピアノ　小野直子(p.33回)　南菜穂(p.)
URL:https://fgroup.jp/concert/20180708/
LOCATION:あいれふホール (福岡市健康づくりサポートセンター)\, 中央区舞鶴2-5-1\, 福岡市\, 福岡県\, 810-0073\, Japan
CATEGORIES:Fグループ後援,Fグループ支部主催
ATTACH;FMTTYPE=image/jpeg:https://fgroup.jp/wp-content/uploads/20180708-e1532403275954.jpg
END:VEVENT
BEGIN:VEVENT
DTSTART;TZID=Asia/Tokyo:20180701T143000
DTEND;TZID=Asia/Tokyo:20180701T163000
DTSTAMP:20260426T115820
CREATED:20180302T040129Z
LAST-MODIFIED:20190803T014649Z
UID:6750-1530455400-1530462600@fgroup.jp
SUMMARY:ヨコハマ・クラシックス vol. 1
DESCRIPTION:【プログラム】\nピアニスト伊藤慧が、毎回横浜に縁ある奏者とともに贈るヨコハマクラシックシリーズ。\n2018年は神奈川フィルハーモニー管弦楽団首席奏者の方々をお招きし、7月、9月、12月に開催致します。 \nモーツァルト：パイジェッロの歌劇「哲学者気取り」より「主に幸あれ」による6つの変奏曲\nモーツァルト：オーボエ協奏曲\nブレヴィーユ：ソナチネ\nバルトーク：ルーマニア民族舞曲\nほか \n【出演】\n伊藤慧(p.57回)\n古山真里江(ob)
URL:https://fgroup.jp/concert/20180701/
LOCATION:カワイ横浜イベントサロンプラージュ\, 中区相生町6-113\, 横浜市\, 神奈川県\, 231-0012\, Japan
CATEGORIES:Fグループ後援
ATTACH;FMTTYPE=image/jpeg:https://fgroup.jp/wp-content/uploads/20180701.jpg
END:VEVENT
END:VCALENDAR