BEGIN:VCALENDAR
VERSION:2.0
PRODID:-//フェリス女学院大学音楽学部同窓会Fグループ - ECPv6.15.19//NONSGML v1.0//EN
CALSCALE:GREGORIAN
METHOD:PUBLISH
X-ORIGINAL-URL:https://fgroup.jp
X-WR-CALDESC:フェリス女学院大学音楽学部同窓会Fグループ のイベント
REFRESH-INTERVAL;VALUE=DURATION:PT1H
X-Robots-Tag:noindex
X-PUBLISHED-TTL:PT1H
BEGIN:VTIMEZONE
TZID:Asia/Tokyo
BEGIN:STANDARD
TZOFFSETFROM:+0900
TZOFFSETTO:+0900
TZNAME:JST
DTSTART:20230101T000000
END:STANDARD
END:VTIMEZONE
BEGIN:VEVENT
DTSTART;TZID=Asia/Tokyo:20240727T103000
DTEND;TZID=Asia/Tokyo:20240727T120000
DTSTAMP:20260420T145713
CREATED:20240703T232407Z
LAST-MODIFIED:20240704T020111Z
UID:17325-1722076200-1722081600@fgroup.jp
SUMMARY:0歳からのファミリーコンサートメロディ・スペースVol.９
DESCRIPTION:【内容・プログラム】\nサンサーンス：「動物の謝肉祭」より「白鳥」\nバルトーク：ルーマニア民族舞曲\nディズニーソング\n「リトル・マーメイド」より\nアンパンマンメドレーなど \n【出演】 伊藤慧 (57回ピアノ )、荒井章乃（vn.) \n【チケット】こども500円　おとな1500円
URL:https://fgroup.jp/concert/20240725/
LOCATION:港北区民文化センターミズキーホール音楽ルーム\, 横浜市港北区綱島東1丁目9番10号 新綱島スクエア4・5階\, 横浜市\, 神奈川県\, 223-0052\, 日本
CATEGORIES:Fグループ後援
ATTACH;FMTTYPE=image/jpeg:https://fgroup.jp/wp-content/uploads/normal-e1775321948525.jpg
ORGANIZER;CN="K%E3%81%B4%E3%81%82%E3%81%AE%E3%82%AB%E3%83%B3%E3%83%91%E3%83%8B%E3%83%BC":MAILTO:k-piano.company@hb.tp1.jp
END:VEVENT
END:VCALENDAR