BEGIN:VCALENDAR
VERSION:2.0
PRODID:-//フェリス女学院大学音楽学部同窓会Fグループ - ECPv6.15.19//NONSGML v1.0//EN
CALSCALE:GREGORIAN
METHOD:PUBLISH
X-WR-CALNAME:フェリス女学院大学音楽学部同窓会Fグループ
X-ORIGINAL-URL:https://fgroup.jp
X-WR-CALDESC:フェリス女学院大学音楽学部同窓会Fグループ のイベント
REFRESH-INTERVAL;VALUE=DURATION:PT1H
X-Robots-Tag:noindex
X-PUBLISHED-TTL:PT1H
BEGIN:VTIMEZONE
TZID:Asia/Tokyo
BEGIN:STANDARD
TZOFFSETFROM:+0900
TZOFFSETTO:+0900
TZNAME:JST
DTSTART:20230101T000000
END:STANDARD
END:VTIMEZONE
BEGIN:VEVENT
DTSTART;TZID=Asia/Tokyo:20240519T140000
DTEND;TZID=Asia/Tokyo:20240519T160000
DTSTAMP:20260420T171854
CREATED:20240114T022636Z
LAST-MODIFIED:20240703T235914Z
UID:16869-1716127200-1716134400@fgroup.jp
SUMMARY:ヨコハマ・クラシックスVol.7
DESCRIPTION:＜内容・プログラム＞\n神奈川フィル首席奏者とともに贈るコンサートシリーズ第7弾 \nゴーベール/タランテラ\nドゥリン/フルート・オーボエ・ピアノのための三重奏\nケラー/花のワルツ　ほか \n＜出演＞伊藤慧 (57回 ピアノ）\n＜共演＞ 江川説子（フルート）、古山真里江（オーボエ） \n＜チケット＞　全席指定\n一般２５００円　学生１５００円
URL:https://fgroup.jp/concert/20240519/
LOCATION:東京都
CATEGORIES:Fグループ後援
ATTACH;FMTTYPE=image/png:https://fgroup.jp/wp-content/uploads/soon.png
ORGANIZER;CN="K%E3%81%B4%E3%81%82%E3%81%AE%E3%82%AB%E3%83%B3%E3%83%91%E3%83%8B%E3%83%BC":MAILTO:k-piano.company@hb.tp1.jp
END:VEVENT
END:VCALENDAR