BEGIN:VCALENDAR
VERSION:2.0
PRODID:-//フェリス女学院大学音楽学部同窓会Fグループ - ECPv6.15.19//NONSGML v1.0//EN
CALSCALE:GREGORIAN
METHOD:PUBLISH
X-ORIGINAL-URL:https://fgroup.jp
X-WR-CALDESC:フェリス女学院大学音楽学部同窓会Fグループ のイベント
REFRESH-INTERVAL;VALUE=DURATION:PT1H
X-Robots-Tag:noindex
X-PUBLISHED-TTL:PT1H
BEGIN:VTIMEZONE
TZID:Asia/Tokyo
BEGIN:STANDARD
TZOFFSETFROM:+0900
TZOFFSETTO:+0900
TZNAME:JST
DTSTART:20180101T000000
END:STANDARD
END:VTIMEZONE
BEGIN:VEVENT
DTSTART;TZID=Asia/Tokyo:20191012T140000
DTEND;TZID=Asia/Tokyo:20191012T160000
DTSTAMP:20260425T232804
CREATED:20191011T071037Z
LAST-MODIFIED:20191227T172133Z
UID:11089-1570888800-1570896000@fgroup.jp
SUMMARY:横濱音物語　※台風のため中止
DESCRIPTION:台風のため中止になりました \n横浜音祭り2019公募サポート事業\n【演奏予定曲】\n・リスト：ラ・カンパネッラ\n・ショパン：ノクターン第2番\n・山田耕筰：からたちの花、この道\n・クライスラー：愛の喜び、愛の悲しみ\n・プロコフィエフ：３つのオレンジへの恋\n・宮城道雄：春の海\n・サンサーンス：死の舞踏\n日本民謡、蛍の光による３つの変奏　ほか \n【出演】\n伊藤慧(p.57回)　漆間有紀(p.58回・院12)　畑中紫甫(s.60回・院14)　菊地理恵(vn.63回)\n竹平晃子（アナウンサー）
URL:https://fgroup.jp/concert/20191012/
LOCATION:横浜市鶴見区文化センターサルビアホール\, 鶴見区鶴見中央1-31-2シークレイン内\, 横浜市\, 神奈川県\, 230-0051\, Japan
CATEGORIES:Fグループ後援
ATTACH;FMTTYPE=image/png:https://fgroup.jp/wp-content/uploads/20191012-e1585425407637.png
ORGANIZER;CN="K%E3%81%B4%E3%81%82%E3%81%AE%E3%82%AB%E3%83%B3%E3%83%91%E3%83%8B%E3%83%BC":MAILTO:k-piano.company@hb.tp1.jp
END:VEVENT
BEGIN:VEVENT
DTSTART;TZID=Asia/Tokyo:20191019T160000
DTEND;TZID=Asia/Tokyo:20191019T173000
DTSTAMP:20260425T232804
CREATED:20190720T073506Z
LAST-MODIFIED:20191227T172338Z
UID:10412-1571500800-1571506200@fgroup.jp
SUMMARY:馬車道ハロウィンコンサート
DESCRIPTION:【曲目】\n仮面舞踏会\n死の舞踏\n他 \n【出演】\n中 玲奈(60回、ヴァイオリン)\n山岸 萌(ピアノ)
URL:https://fgroup.jp/concert/20191019/
LOCATION:馬車道ピアノサロン\, 中区太田町4-46　野中貿易ビル2F\, 横浜市\, 神奈川県\, 231-0011\, Japan
CATEGORIES:Fグループ後援
ATTACH;FMTTYPE=image/jpeg:https://fgroup.jp/wp-content/uploads/20190719_165258-e1585425316608.jpg
END:VEVENT
BEGIN:VEVENT
DTSTART;TZID=Asia/Tokyo:20191026T140000
DTEND;TZID=Asia/Tokyo:20191026T160000
DTSTAMP:20260425T232804
CREATED:20190611T035254Z
LAST-MODIFIED:20190926T081201Z
UID:10166-1572098400-1572105600@fgroup.jp
SUMMARY:ジョイントコンサート 愛の花束
DESCRIPTION:【内 容】\n私の愛しいアマリッリ\nすみれ\nクローエヘ\n糸を紡ぐグレートヒェン\n女の愛と生涯\n白木蓮\nクロリスに\n愛の小径 \nピアノソロ:\nエリーゼのために\n献呈\n亜麻色の髪の乙女 ほか \nチラシ裏面 \n【出演者】秋山有子(55回・院9　ピアノ)、山形明子(55回、ソプラノ)
URL:https://fgroup.jp/concert/20191026-2/
LOCATION:大田区民ホールアプリコ 小ホール\, 大田区蒲田5-37-3\, 東京都\, 144-0052\, Japan
CATEGORIES:Fグループ後援
ATTACH;FMTTYPE=image/jpeg:https://fgroup.jp/wp-content/uploads/20190926_170607-e1585425371917.jpg
END:VEVENT
END:VCALENDAR