BEGIN:VCALENDAR
VERSION:2.0
PRODID:-//フェリス女学院大学音楽学部同窓会Fグループ - ECPv6.15.19//NONSGML v1.0//EN
CALSCALE:GREGORIAN
METHOD:PUBLISH
X-ORIGINAL-URL:https://fgroup.jp
X-WR-CALDESC:フェリス女学院大学音楽学部同窓会Fグループ のイベント
REFRESH-INTERVAL;VALUE=DURATION:PT1H
X-Robots-Tag:noindex
X-PUBLISHED-TTL:PT1H
BEGIN:VTIMEZONE
TZID:Asia/Tokyo
BEGIN:STANDARD
TZOFFSETFROM:+0900
TZOFFSETTO:+0900
TZNAME:JST
DTSTART:20180101T000000
END:STANDARD
END:VTIMEZONE
BEGIN:VEVENT
DTSTART;TZID=Asia/Tokyo:20190905T190000
DTEND;TZID=Asia/Tokyo:20190905T210000
DTSTAMP:20260426T005205
CREATED:20190719T073414Z
LAST-MODIFIED:20191001T170356Z
UID:10403-1567710000-1567717200@fgroup.jp
SUMMARY:ジョイントコンサート 歌う奏でる千原英喜の世界
DESCRIPTION:［曲目］\n千原英喜：歌曲集　歌っていいですか\n千原英喜：ピアノ曲集　星月夜\n千原英喜：歌曲集　ありがとう \n［出演］\n小林周子(p.29回)\n千原睦子(Sop) 千原英喜(お話) 奈切敏郎(ゲスト・チェロ)
URL:https://fgroup.jp/concert/20190905/
LOCATION:横浜みなとみらいホール 小ホール\, 西区みなとみらい2-3-6\, 横浜市\, 神奈川県\, 220-0012\, Japan
CATEGORIES:Fグループ後援
ATTACH;FMTTYPE=image/jpeg:https://fgroup.jp/wp-content/uploads/20190719_134507-e1585425300844.jpg
END:VEVENT
BEGIN:VEVENT
DTSTART;TZID=Asia/Tokyo:20190928T140000
DTEND;TZID=Asia/Tokyo:20190928T153000
DTSTAMP:20260426T005205
CREATED:20190724T010912Z
LAST-MODIFIED:20220823T141530Z
UID:10431-1569679200-1569684600@fgroup.jp
SUMMARY:Violin Duo Concert
DESCRIPTION:【プログラム】\nショスタコーヴィチ：2つのヴァイオリンとピアノのための5つの小品\nJ.S.バッハ：2つのヴァイオリンのための協奏曲ニ短調 BWV1043　ほか
URL:https://fgroup.jp/concert/20190928/
LOCATION:横浜市イギリス館\, 中区山手町115-3\, 横浜市\, 神奈川県\, 231-0862\, Japan
CATEGORIES:Fグループ後援
ATTACH;FMTTYPE=image/png:https://fgroup.jp/wp-content/uploads/no_image.png
END:VEVENT
BEGIN:VEVENT
DTSTART;TZID=Asia/Tokyo:20190929T020000
DTEND;TZID=Asia/Tokyo:20190929T040000
DTSTAMP:20260426T005205
CREATED:20190725T031631Z
LAST-MODIFIED:20191001T171145Z
UID:10455-1569722400-1569729600@fgroup.jp
SUMMARY:愛するおとなのうた5 ―懐かしの合唱曲―
DESCRIPTION:【内容】\n大人がゆっくり楽しめるエンターテイメント性の高いクラシックコンサート。生演奏による音楽をリラックスして聴いていただけます。 \n【出演】\n佐々木淑子(フルート・36回) 山下美樹(ソプラノ・49回) 前田佳代(ソプラノ・55回) 古川亜希(ソプラノ・57回）高松久美子(ソプラノ・57回）宮木孝枝(ソプラノ・61回）
URL:https://fgroup.jp/concert/20190929/
LOCATION:横浜市港北公会堂\, 港北区大豆戸町26-1\, 横浜市\, 神奈川県\, 222-0032\, Japan
CATEGORIES:Fグループ後援
ATTACH;FMTTYPE=image/jpeg:https://fgroup.jp/wp-content/uploads/20190725_180618-e1585425328909.jpg
ORGANIZER;CN="ki%E3%81%AE%E4%BC%9A%E4%BA%8B%E5%8B%99%E5%B1%80":MAILTO:kinokai@live.jp
END:VEVENT
END:VCALENDAR