BEGIN:VCALENDAR
VERSION:2.0
PRODID:-//フェリス女学院大学音楽学部同窓会Fグループ - ECPv6.15.19//NONSGML v1.0//EN
CALSCALE:GREGORIAN
METHOD:PUBLISH
X-WR-CALNAME:フェリス女学院大学音楽学部同窓会Fグループ
X-ORIGINAL-URL:https://fgroup.jp
X-WR-CALDESC:フェリス女学院大学音楽学部同窓会Fグループ のイベント
REFRESH-INTERVAL;VALUE=DURATION:PT1H
X-Robots-Tag:noindex
X-PUBLISHED-TTL:PT1H
BEGIN:VTIMEZONE
TZID:Asia/Tokyo
BEGIN:STANDARD
TZOFFSETFROM:+0900
TZOFFSETTO:+0900
TZNAME:JST
DTSTART:20240101T000000
END:STANDARD
END:VTIMEZONE
BEGIN:VEVENT
DTSTART;TZID=Asia/Tokyo:20250820T140000
DTEND;TZID=Asia/Tokyo:20250820T160000
DTSTAMP:20260419T210144
CREATED:20260404T021112Z
LAST-MODIFIED:20260404T111720Z
UID:17985-1755698400-1755705600@fgroup.jp
SUMMARY:昼下がりの⾳楽会Vol.15　ピアノと映像によるカジュアルコンサート
DESCRIPTION:
URL:https://fgroup.jp/concert/20250820/
LOCATION:瀬谷区民文化センターあじさいプラザ
CATEGORIES:Fグループ後援
ATTACH;FMTTYPE=image/jpeg:https://fgroup.jp/wp-content/uploads/20250820.jpg
ORGANIZER;CN="K%E3%81%B4%E3%81%82%E3%81%AE%E3%82%AB%E3%83%B3%E3%83%91%E3%83%8B%E3%83%BC":MAILTO:k-piano.company@hb.tp1.jp
END:VEVENT
END:VCALENDAR