BEGIN:VCALENDAR
VERSION:2.0
PRODID:-//フェリス女学院大学音楽学部同窓会Fグループ - ECPv6.15.19//NONSGML v1.0//EN
CALSCALE:GREGORIAN
METHOD:PUBLISH
X-WR-CALNAME:フェリス女学院大学音楽学部同窓会Fグループ
X-ORIGINAL-URL:https://fgroup.jp
X-WR-CALDESC:フェリス女学院大学音楽学部同窓会Fグループ のイベント
REFRESH-INTERVAL;VALUE=DURATION:PT1H
X-Robots-Tag:noindex
X-PUBLISHED-TTL:PT1H
BEGIN:VTIMEZONE
TZID:Asia/Tokyo
BEGIN:STANDARD
TZOFFSETFROM:+0900
TZOFFSETTO:+0900
TZNAME:JST
DTSTART:20230101T000000
END:STANDARD
END:VTIMEZONE
BEGIN:VEVENT
DTSTART;TZID=Asia/Tokyo:20240829T140000
DTEND;TZID=Asia/Tokyo:20240829T160000
DTSTAMP:20260420T133413
CREATED:20240703T232712Z
LAST-MODIFIED:20240704T020226Z
UID:17328-1724940000-1724947200@fgroup.jp
SUMMARY:昼下がりの音楽会Vol.11
DESCRIPTION:公演日時: 2023年8月29日　木曜日　14時00分開演\n(第二回–時–分開演)\n公演名: 昼下がりの音楽会Vol.11\n会場名: 瀬谷区民文化センターあじさいプラザ \n会場住所: https://ajisai-plaza.hall-info.jp/\n主催者名: Kぴあのカンパニー \n【内容・プログラム】\nピアノソロによるカジュアルコンサート\n・ショパン：エチュード「革命」\n・ショパン：小犬のワルツ　ほか \n【出演】 伊藤慧 (57回、ピアノ） \n【チケット】全席指定１５００円
URL:https://fgroup.jp/concert/20240829/
LOCATION:あじさいプラザ\, 横浜市瀬谷区瀬谷四丁目4番地10(ライブゲート瀬谷3階・4階)\, 246-0031
CATEGORIES:Fグループ後援
ATTACH;FMTTYPE=image/jpeg:https://fgroup.jp/wp-content/uploads/240829_hirusagari11_hp-e1775321933379.jpg
ORGANIZER;CN="K%E3%81%B4%E3%81%82%E3%81%AE%E3%82%AB%E3%83%B3%E3%83%91%E3%83%8B%E3%83%BC":MAILTO:k-piano.company@hb.tp1.jp
END:VEVENT
END:VCALENDAR