BEGIN:VCALENDAR
VERSION:2.0
PRODID:-//フェリス女学院大学音楽学部同窓会Fグループ - ECPv6.15.19//NONSGML v1.0//EN
CALSCALE:GREGORIAN
METHOD:PUBLISH
X-WR-CALNAME:フェリス女学院大学音楽学部同窓会Fグループ
X-ORIGINAL-URL:https://fgroup.jp
X-WR-CALDESC:フェリス女学院大学音楽学部同窓会Fグループ のイベント
REFRESH-INTERVAL;VALUE=DURATION:PT1H
X-Robots-Tag:noindex
X-PUBLISHED-TTL:PT1H
BEGIN:VTIMEZONE
TZID:Asia/Tokyo
BEGIN:STANDARD
TZOFFSETFROM:+0900
TZOFFSETTO:+0900
TZNAME:JST
DTSTART:20230101T000000
END:STANDARD
END:VTIMEZONE
BEGIN:VEVENT
DTSTART;TZID=Asia/Tokyo:20240621T183000
DTEND;TZID=Asia/Tokyo:20240621T203000
DTSTAMP:20260420T172007
CREATED:20240114T012510Z
LAST-MODIFIED:20240609T131634Z
UID:16835-1718994600-1719001800@fgroup.jp
SUMMARY:RIE MATSUOKA MEZZO SOPRANO RECITAL Vol.9
DESCRIPTION:＜プログラム＞\nHaydn＜６original canzonettas＞\nハイドン＜6つの独創的歌曲集＞より\n木下牧子　歌曲集「愛する歌」より\nPoulenc <Fiançailles pour rire＞\nプーランク＜気まぐれな婚約＞\nDvořák　 ＜Zigeunermelodien＞\nドヴォルザーク＜ジブシーの歌＞ \n＜出演＞\n松岡理枝 (35回 メゾソプラノ）\n梅田朋子（ピアノ） \n＜チケット＞\n前売：4000円　　当日：4500円
URL:https://fgroup.jp/concert/20240621/
LOCATION:ルーテル市ヶ谷ホール\, 新宿区市谷砂土原町1-1\, 東京都\, 162-0842\, Japan
CATEGORIES:Fグループ後援
ATTACH;FMTTYPE=image/jpeg:https://fgroup.jp/wp-content/uploads/20240621-e1775321115559.jpg
END:VEVENT
END:VCALENDAR