BEGIN:VCALENDAR
VERSION:2.0
PRODID:-//フェリス女学院大学音楽学部同窓会Fグループ - ECPv6.15.19//NONSGML v1.0//EN
CALSCALE:GREGORIAN
METHOD:PUBLISH
X-ORIGINAL-URL:https://fgroup.jp
X-WR-CALDESC:フェリス女学院大学音楽学部同窓会Fグループ のイベント
REFRESH-INTERVAL;VALUE=DURATION:PT1H
X-Robots-Tag:noindex
X-PUBLISHED-TTL:PT1H
BEGIN:VTIMEZONE
TZID:Asia/Tokyo
BEGIN:STANDARD
TZOFFSETFROM:+0900
TZOFFSETTO:+0900
TZNAME:JST
DTSTART:20230101T000000
END:STANDARD
END:VTIMEZONE
BEGIN:VEVENT
DTSTART;TZID=Asia/Tokyo:20240414T140000
DTEND;TZID=Asia/Tokyo:20240414T160000
DTSTAMP:20260420T194650
CREATED:20240114T014117Z
LAST-MODIFIED:20240114T014117Z
UID:16842-1713103200-1713110400@fgroup.jp
SUMMARY:大田区から羽ばたいたアーティストシリーズ・SpringConcert 春
DESCRIPTION:＜プログラム＞\nエルガー/愛の挨拶\nマスネ/タイスの瞑想曲\nベートーヴェン/ヴァイオリンソナタ第5番「春」より\nモリコーネ/ニューシネマパラダイス\nほか \n＜出演＞\n伊藤慧 (57回 ピアノ） 崎谷直人（バイオリン） \n＜チケット＞　全席自由\n一般２０００円\n学生１５００円\nチケットぴあで1月中旬発売予定
URL:https://fgroup.jp/concert/20240414/
LOCATION:大田区民ホールアプリコ 小ホール\, 大田区蒲田5-37-3\, 東京都\, 144-0052\, Japan
CATEGORIES:Fグループ後援
ATTACH;FMTTYPE=image/png:https://fgroup.jp/wp-content/uploads/soon.png
ORGANIZER;CN="K%E3%81%B4%E3%81%82%E3%81%AE%E3%82%AB%E3%83%B3%E3%83%91%E3%83%8B%E3%83%BC":MAILTO:k-piano.company@hb.tp1.jp
END:VEVENT
END:VCALENDAR