BEGIN:VCALENDAR
VERSION:2.0
PRODID:-//フェリス女学院大学音楽学部同窓会Fグループ - ECPv6.15.19//NONSGML v1.0//EN
CALSCALE:GREGORIAN
METHOD:PUBLISH
X-ORIGINAL-URL:https://fgroup.jp
X-WR-CALDESC:フェリス女学院大学音楽学部同窓会Fグループ のイベント
REFRESH-INTERVAL;VALUE=DURATION:PT1H
X-Robots-Tag:noindex
X-PUBLISHED-TTL:PT1H
BEGIN:VTIMEZONE
TZID:Asia/Tokyo
BEGIN:STANDARD
TZOFFSETFROM:+0900
TZOFFSETTO:+0900
TZNAME:JST
DTSTART:20230101T000000
END:STANDARD
END:VTIMEZONE
BEGIN:VEVENT
DTSTART;TZID=Asia/Tokyo:20240226T180000
DTEND;TZID=Asia/Tokyo:20240226T200000
DTSTAMP:20260420T210315
CREATED:20240114T015017Z
LAST-MODIFIED:20240114T015017Z
UID:16844-1708970400-1708977600@fgroup.jp
SUMMARY:音のグルメ ア・ラ・カルト　～フェリス女学院大学音楽学部副手によるコンサートVol.15～
DESCRIPTION:＜内容・プログラム＞＊山手芸術祭参加公演 \nシューベルト :幻想曲 ヘ短調 D 940 Op. 103\nシューベルト：アルペジオ―ネ・ソナタ  D 821 より 第1楽章\nブラームス：ホルン三重奏曲 変ホ長調  Op. 40 より 第1\,4楽章\nクライスラー：ウィーン風小行進曲　　ほか \n＜演奏＞ 片山桜子 (65回 ピアノ） 梶木 久遠（70回・院24回ピアノ）野口 花音（70回・院24回ピアノ）\n原田 真衣子（67回・院21回ピアノ）秋山 恵莉（66回・院20回）峯　梨良（68回卒・院22回ピアノ）\n片山 桜子（65回・ピアノ）\n＜共演＞ 小室 玲衣（Vn.）、佐藤 百花（Va.）、小川 杏美（Hr.）、松原 陸（Ten.)\n＜賛助＞土屋広次郎先生（Br.） \n（副手出演者）\n小室 玲衣（Vn.）、佐藤 百花（Va.）、小川 杏美（Hr.）、梶木 久遠（Pf.）、野口 花音（Pf.）、\n原田 真衣子（Pf.）、秋山 恵莉（Pf.）、峯　梨良（Pf.）、片山 桜子（Pf.）、松原 陸（Ten.) \n＜チケット＞要事前予約\n一般 1\,000円\n本学オープンカレッジ生・卒業生 500円\n高校生以下・本学学生・教職員 無料
URL:https://fgroup.jp/concert/20240226/
LOCATION:フェリスホール\, 中区山手町37\, 横浜市\, 神奈川県\, 231-0862\, Japan
CATEGORIES:Fグループ後援
ATTACH;FMTTYPE=application/pdf:https://fgroup.jp/wp-content/uploads/0bc47cab28dd30f6291a8094902be436a685e739.pdf
ORGANIZER;CN="%E3%83%95%E3%82%A7%E3%83%AA%E3%82%B9%E5%A5%B3%E5%AD%A6%E9%99%A2%E5%A4%A7%E5%AD%A6%E9%9F%B3%E6%A5%BD%E5%AD%A6%E9%83%A8":MAILTO:concert_office@ferris.ac.jp
END:VEVENT
END:VCALENDAR