BEGIN:VCALENDAR
VERSION:2.0
PRODID:-//フェリス女学院大学音楽学部同窓会Fグループ - ECPv6.15.19//NONSGML v1.0//EN
CALSCALE:GREGORIAN
METHOD:PUBLISH
X-ORIGINAL-URL:https://fgroup.jp
X-WR-CALDESC:フェリス女学院大学音楽学部同窓会Fグループ のイベント
REFRESH-INTERVAL;VALUE=DURATION:PT1H
X-Robots-Tag:noindex
X-PUBLISHED-TTL:PT1H
BEGIN:VTIMEZONE
TZID:Asia/Tokyo
BEGIN:STANDARD
TZOFFSETFROM:+0900
TZOFFSETTO:+0900
TZNAME:JST
DTSTART:20230101T000000
END:STANDARD
END:VTIMEZONE
BEGIN:VEVENT
DTSTART;TZID=Asia/Tokyo:20240120T103000
DTEND;TZID=Asia/Tokyo:20240120T113000
DTSTAMP:20260420T233924
CREATED:20240114T013550Z
LAST-MODIFIED:20240114T013550Z
UID:16839-1705746600-1705750200@fgroup.jp
SUMMARY:0歳からのファミリーコンサートメロディ・スペースVol.7
DESCRIPTION:＜内容・プログラム＞\nヴァイオリンとピアノによファミリーコンサート\nフンパーティング：ヘンゼルとグレーテル\nモンティ：チャルダッシュ\nエルガー：朝の歌\nホールニューワールド\n崖の上のポニョほか \n＜演奏＞ 伊藤慧 (57回 ピアノ）、荒井章乃（vn.) \n＜チケット＞\nこども５００円大人１５００円　Kぴあのカンパニー専用フォームからお申込み \n＜URL＞https://salvia.hall-info.jp/others/20240120_3r10320/
URL:https://fgroup.jp/concert/20240120/
LOCATION:横浜市鶴見区民文化センターサルビアホール
CATEGORIES:Fグループ後援
ATTACH;FMTTYPE=image/jpeg:https://fgroup.jp/wp-content/uploads/20240120-e1775320618410.jpg
ORGANIZER;CN="K%E3%81%B4%E3%81%82%E3%81%AE%E3%82%AB%E3%83%B3%E3%83%91%E3%83%8B%E3%83%BC":MAILTO:k-piano.company@hb.tp1.jp
END:VEVENT
END:VCALENDAR