BEGIN:VCALENDAR
VERSION:2.0
PRODID:-//フェリス女学院大学音楽学部同窓会Fグループ - ECPv6.15.19//NONSGML v1.0//EN
CALSCALE:GREGORIAN
METHOD:PUBLISH
X-WR-CALNAME:フェリス女学院大学音楽学部同窓会Fグループ
X-ORIGINAL-URL:https://fgroup.jp
X-WR-CALDESC:フェリス女学院大学音楽学部同窓会Fグループ のイベント
REFRESH-INTERVAL;VALUE=DURATION:PT1H
X-Robots-Tag:noindex
X-PUBLISHED-TTL:PT1H
BEGIN:VTIMEZONE
TZID:Asia/Tokyo
BEGIN:STANDARD
TZOFFSETFROM:+0900
TZOFFSETTO:+0900
TZNAME:JST
DTSTART:20220101T000000
END:STANDARD
END:VTIMEZONE
BEGIN:VEVENT
DTSTART;TZID=Asia/Tokyo:20230228T140000
DTEND;TZID=Asia/Tokyo:20230228T150000
DTSTAMP:20260421T132200
CREATED:20221201T001135Z
LAST-MODIFIED:20221201T001135Z
UID:15996-1677592800-1677596400@fgroup.jp
SUMMARY:昼下がりの音楽会 vol.2
DESCRIPTION:【内容・プログラム】\nヴァイオリニスト荒井章乃とピアニスト伊藤慧による平日昼間の1時間のカジュアルコンサート \nクライスラー：前奏曲とアレグロ\nヘス：ラベンダーの咲く庭で\nアザラシヴィリ：ラフマニノフに捧ぐ　　　　・・・ほか \n【出演】伊藤慧（57回、ピアノ）、荒井章乃（ヴァイオリン） \n  \n【チケット】全席指定1000円
URL:https://fgroup.jp/concert/20230228/
LOCATION:あじさいプラザ\, 横浜市瀬谷区瀬谷四丁目4番地10(ライブゲート瀬谷3階・4階)\, 246-0031
CATEGORIES:Fグループ後援
ATTACH;FMTTYPE=image/jpeg:https://fgroup.jp/wp-content/uploads/image-e1775322473794.jpg
END:VEVENT
END:VCALENDAR