BEGIN:VCALENDAR
VERSION:2.0
PRODID:-//フェリス女学院大学音楽学部同窓会Fグループ - ECPv6.15.19//NONSGML v1.0//EN
CALSCALE:GREGORIAN
METHOD:PUBLISH
X-WR-CALNAME:フェリス女学院大学音楽学部同窓会Fグループ
X-ORIGINAL-URL:https://fgroup.jp
X-WR-CALDESC:フェリス女学院大学音楽学部同窓会Fグループ のイベント
REFRESH-INTERVAL;VALUE=DURATION:PT1H
X-Robots-Tag:noindex
X-PUBLISHED-TTL:PT1H
BEGIN:VTIMEZONE
TZID:Asia/Tokyo
BEGIN:STANDARD
TZOFFSETFROM:+0900
TZOFFSETTO:+0900
TZNAME:JST
DTSTART:20210101T000000
END:STANDARD
END:VTIMEZONE
BEGIN:VEVENT
DTSTART;TZID=Asia/Tokyo:20221125T190000
DTEND;TZID=Asia/Tokyo:20221125T210000
DTSTAMP:20260421T191157
CREATED:20220407T020025Z
LAST-MODIFIED:20220706T110728Z
UID:15200-1669402800-1669410000@fgroup.jp
SUMMARY:Zeit für Musik
DESCRIPTION:【プログラム】\n一部:弦楽トリオ\n二部:声楽デュオ(ヴォルフ《イタリア歌曲集》抜粋)【出演】山本夏子 (62回 )、齊藤舞(ピアノ・56回)、菊地理恵(ヴァイオリン・63回)、鈴木彩音(ピアノ・63回)加来徹(バリトン・ゲスト)、伊藤七生(チェロ) \nチケット代　¥4\,000(予定)
URL:https://fgroup.jp/concert/20221125/
LOCATION:高輪プリンセスガルテン AMBIENTE　アンビエンテ\, 港区高輪4-24-40\, 東京都\, 108-0074\, Japan
CATEGORIES:Fグループ後援
ATTACH;FMTTYPE=image/png:https://fgroup.jp/wp-content/uploads/sketch-1657105577079-e1775322607945.png
END:VEVENT
END:VCALENDAR