BEGIN:VCALENDAR
VERSION:2.0
PRODID:-//フェリス女学院大学音楽学部同窓会Fグループ - ECPv6.15.19//NONSGML v1.0//EN
CALSCALE:GREGORIAN
METHOD:PUBLISH
X-ORIGINAL-URL:https://fgroup.jp
X-WR-CALDESC:フェリス女学院大学音楽学部同窓会Fグループ のイベント
REFRESH-INTERVAL;VALUE=DURATION:PT1H
X-Robots-Tag:noindex
X-PUBLISHED-TTL:PT1H
BEGIN:VTIMEZONE
TZID:Asia/Tokyo
BEGIN:STANDARD
TZOFFSETFROM:+0900
TZOFFSETTO:+0900
TZNAME:JST
DTSTART:20210101T000000
END:STANDARD
END:VTIMEZONE
BEGIN:VEVENT
DTSTART;TZID=Asia/Tokyo:20221001T183000
DTEND;TZID=Asia/Tokyo:20221001T203000
DTSTAMP:20260421T204053
CREATED:20220901T154448Z
LAST-MODIFIED:20220901T154448Z
UID:15844-1664649000-1664656200@fgroup.jp
SUMMARY:佐藤悠太&御園生瞳 博士号取得記念リサイタル
DESCRIPTION:【プログラム】 \nヴァーグナー　《妖精》アリンダルのアリア \nヴァーグナー　《ラインの黄金》ローゲの語り \nブラウンフェルス《鳥たち》ホフグートの歌 \nロッシーニ　《タンクレーディ》アルジーリオのアリア　ほか \n【出演】御園生瞳(pf.52回)、佐藤悠太（テノール） \n【チケット】一般3000円　学生1000円（高校生以下要証明） \n【お問合せ】0138（55）5316　（末永）
URL:https://fgroup.jp/concert/20221001/
LOCATION:道愛学院　講堂
CATEGORIES:Fグループ後援
ATTACH;FMTTYPE=image/jpeg:https://fgroup.jp/wp-content/uploads/1662044860270-e1775322519668.jpg
END:VEVENT
END:VCALENDAR