BEGIN:VCALENDAR
VERSION:2.0
PRODID:-//フェリス女学院大学音楽学部同窓会Fグループ - ECPv6.15.19//NONSGML v1.0//EN
CALSCALE:GREGORIAN
METHOD:PUBLISH
X-ORIGINAL-URL:https://fgroup.jp
X-WR-CALDESC:フェリス女学院大学音楽学部同窓会Fグループ のイベント
REFRESH-INTERVAL;VALUE=DURATION:PT1H
X-Robots-Tag:noindex
X-PUBLISHED-TTL:PT1H
BEGIN:VTIMEZONE
TZID:Asia/Tokyo
BEGIN:STANDARD
TZOFFSETFROM:+0900
TZOFFSETTO:+0900
TZNAME:JST
DTSTART:20210101T000000
END:STANDARD
END:VTIMEZONE
BEGIN:VEVENT
DTSTART;TZID=Asia/Tokyo:20220828T140000
DTEND;TZID=Asia/Tokyo:20220828T160000
DTSTAMP:20260421T233628
CREATED:20220302T152224Z
LAST-MODIFIED:20220704T024030Z
UID:14950-1661695200-1661702400@fgroup.jp
SUMMARY:ヨコハマ・クラシックスvol.6
DESCRIPTION:【内容・プログラム】\n神奈川フィル首席奏者陣と贈るコンサートシリーズ第6弾！！\n今回はこれまでの出演者が勢ぞろいして六重奏をお届けいたします。 \nトゥイレ：六重奏\nプーランク：六重奏　ほか \n【出演】 伊藤慧 (57回・ピアノ） \n【共演】 古山真里江（神奈川フィル首席オーボエ奏者） 江川説子（神奈川フィル首席フルート奏者） 齋藤雄介（神奈川フィル首席クラリネット奏者） 石井淳（神奈川フィル首席ファゴット奏者） 坂東裕香（神奈川フィル首席ホルン奏者） \n【チケット】\n一般2\,000円/学生1\,000円
URL:https://fgroup.jp/concert/20220828/
LOCATION:横浜市鶴見区民文化センターサルビアホール
CATEGORIES:Fグループ後援
ATTACH;FMTTYPE=image/jpeg:https://fgroup.jp/wp-content/uploads/20220704_112006-e1775320408196.jpg
END:VEVENT
END:VCALENDAR