BEGIN:VCALENDAR
VERSION:2.0
PRODID:-//フェリス女学院大学音楽学部同窓会Fグループ - ECPv6.15.19//NONSGML v1.0//EN
CALSCALE:GREGORIAN
METHOD:PUBLISH
X-ORIGINAL-URL:https://fgroup.jp
X-WR-CALDESC:フェリス女学院大学音楽学部同窓会Fグループ のイベント
REFRESH-INTERVAL;VALUE=DURATION:PT1H
X-Robots-Tag:noindex
X-PUBLISHED-TTL:PT1H
BEGIN:VTIMEZONE
TZID:Asia/Tokyo
BEGIN:STANDARD
TZOFFSETFROM:+0900
TZOFFSETTO:+0900
TZNAME:JST
DTSTART:20210101T000000
END:STANDARD
END:VTIMEZONE
BEGIN:VEVENT
DTSTART;TZID=Asia/Tokyo:20220728T190000
DTEND;TZID=Asia/Tokyo:20220728T210000
DTSTAMP:20260422T010505
CREATED:20220302T151337Z
LAST-MODIFIED:20260404T174101Z
UID:14946-1659034800-1659042000@fgroup.jp
SUMMARY:新進演奏家育成プロジェクトリサイタル・シリーズTOKYO112  杉本可菜ソプラノ・リサイタル
DESCRIPTION:【プログラム】\n第１部 ：\n＊H. Purcell “Come all ye songsters”　パーセル ／“さあ、お前たち、空の歌い手よ”\n＊H. Purcell “Music for a while”　パーセル／“しばらくは音楽の調べで”\n＊H. Purcell “Sweeter than roses”　パーセル／“ばらの花より香しく” \n＊R.Schumann“Widmung”　シューマン／“献呈”\n＊R.Schumann“Geisternähe”　シューマン／“通い合う心”\n＊R.Schumann“Liebeslied”　シューマン／“愛の歌”\n＊R.Schumann“Meine Rose”　シューマン／“僕のばら” \n＊Fanny Hensel Mendelssohn“Nach Süden”　ファニー・ヘンゼル・メンデルスゾーン／     “南へ”\n＊Fanny Hensel Mendelssohn　 “Die Mainacht”　ファニー・ヘンゼル・メンデルスゾーン／“五月の夜”\n＊Fanny Hensel Mendelssohn“Schwanenlied”　ファニー・ヘンゼル・メンデルスゾーン／“白鳥の歌” \n＊Felix Mendelssohn“Nachtlied”   フェリックス・メンデルスゾーン／“夜の歌”\n＊Felix Mendelssohn“Andres Maienlied（Hexenlied）”フェリックス・メンデルスゾーン／“もう一つの五月の歌（魔女の歌）” \n第2部\n＊C.Saint Saëns“Aimons nous”　サンサーンス／“愛し合おう”\n＊C.Saint Saëns“Guitares et Mandolines” 　サンサーンス／“ギターとマンドリン”\n＊Joaquin Rodrigo        ロドリーゴ＜Cuatro Madrigales Amatorios＞「4つの愛のマドリガル」より\n“Ⅰ.¿Con que la lavare?”　“1. 何で顔を洗おうか”\n“Ⅱ.Vos me matasteis”　“2. 君ゆえ死ぬ思い”\n“Ⅲ.¿De donde venis\, amore?”　“3. 恋人よ、どこから来たの”\n“Ⅳ.De los alamos vengo\, madre”　“4. お母さん、ポプラの林へ行ってきた” \n＊Amy Beach      エイミー・ビーチ　＜Three Browning Songs\, Op.44 ＞「三つのブラウニングの歌」より\n“Ⅰ.The year’s at the spring”　“1. 春、今年の”\n“Ⅱ.Ah\, love\, but a day！”　“2. あぁ、愛よ、たった一日の！”\n“Ⅲ.I send my heart up to Thee”　“3. あなたに私の心を届けよう” \n【出演】 \n杉本可菜 (63回 Vo.）　片野敦子（34回Pf.）
URL:https://fgroup.jp/concert/20220728/
LOCATION:東京文化会館　小ホール\, 東京都台東区上野公園5-45\, 110-8716
CATEGORIES:Fグループ後援
ATTACH;FMTTYPE=image/jpeg:https://fgroup.jp/wp-content/uploads/image0-1-1-scaled-e1661250363899.jpeg
END:VEVENT
END:VCALENDAR