BEGIN:VCALENDAR
VERSION:2.0
PRODID:-//フェリス女学院大学音楽学部同窓会Fグループ - ECPv6.15.19//NONSGML v1.0//EN
CALSCALE:GREGORIAN
METHOD:PUBLISH
X-WR-CALNAME:フェリス女学院大学音楽学部同窓会Fグループ
X-ORIGINAL-URL:https://fgroup.jp
X-WR-CALDESC:フェリス女学院大学音楽学部同窓会Fグループ のイベント
REFRESH-INTERVAL;VALUE=DURATION:PT1H
X-Robots-Tag:noindex
X-PUBLISHED-TTL:PT1H
BEGIN:VTIMEZONE
TZID:Asia/Tokyo
BEGIN:STANDARD
TZOFFSETFROM:+0900
TZOFFSETTO:+0900
TZNAME:JST
DTSTART:20210101T000000
END:STANDARD
END:VTIMEZONE
BEGIN:VEVENT
DTSTART;TZID=Asia/Tokyo:20220717T140000
DTEND;TZID=Asia/Tokyo:20220717T160000
DTSTAMP:20260422T010337
CREATED:20220407T015034Z
LAST-MODIFIED:20260404T173852Z
UID:15198-1658066400-1658073600@fgroup.jp
SUMMARY:フランス歌曲の畔で
DESCRIPTION:【内容・プログラム】\nフランス歌曲とフランス語で歌う日本の歌　ほか \n【出演者】　 岡部ゆかり (30回）、江澤知香（S）、坂本貴輝（T）、虫明知彦（P）
URL:https://fgroup.jp/concert/20220717/
LOCATION:高輪プリンセスガルテン AMBIENTE　アンビエンテ\, 港区高輪4-24-40\, 東京都\, 108-0074\, Japan
CATEGORIES:Fグループ後援
ATTACH;FMTTYPE=image/jpeg:https://fgroup.jp/wp-content/uploads/ADD9D9E2-F537-4853-BCC2-830DA09E240E-e1661250315227.jpeg
END:VEVENT
END:VCALENDAR