BEGIN:VCALENDAR
VERSION:2.0
PRODID:-//フェリス女学院大学音楽学部同窓会Fグループ - ECPv6.15.19//NONSGML v1.0//EN
CALSCALE:GREGORIAN
METHOD:PUBLISH
X-WR-CALNAME:フェリス女学院大学音楽学部同窓会Fグループ
X-ORIGINAL-URL:https://fgroup.jp
X-WR-CALDESC:フェリス女学院大学音楽学部同窓会Fグループ のイベント
REFRESH-INTERVAL;VALUE=DURATION:PT1H
X-Robots-Tag:noindex
X-PUBLISHED-TTL:PT1H
BEGIN:VTIMEZONE
TZID:Asia/Tokyo
BEGIN:STANDARD
TZOFFSETFROM:+0900
TZOFFSETTO:+0900
TZNAME:JST
DTSTART:20200101T000000
END:STANDARD
END:VTIMEZONE
BEGIN:VEVENT
DTSTART;TZID=Asia/Tokyo:20211113T140000
DTEND;TZID=Asia/Tokyo:20211113T160000
DTSTAMP:20260424T040347
CREATED:20210414T020122Z
LAST-MODIFIED:20220823T105114Z
UID:12767-1636812000-1636819200@fgroup.jp
SUMMARY:冨貴亜里紗ピアノリサイタル
DESCRIPTION:【プログラム】\nルイエ（リュリ）作曲アルマンド、クーラント、ジーグ\nショパン作曲　ワルツバラード第3番 Op.47 As-dur\nドビュッシー作曲　ベルガマスク組曲\nヴィラ・ロボス作曲　ブラジル風バッハ第4番\nバッハ作曲　マルチェッロのアダージョ（バッハ編）ほか \n【出演】冨貴亜里紗（56回、ピアノ） \n【チケット】2000円　高校生以下無料
URL:https://fgroup.jp/concert/20211113/
LOCATION:和光大学ポプリホール鶴川\, 能ヶ谷1-2-1\, 町田市\, 東京都\, 195-0053\, Japan
CATEGORIES:Fグループ後援
ATTACH;FMTTYPE=image/jpeg:https://fgroup.jp/wp-content/uploads/20211113ふきさん-e1661250167753.jpeg
END:VEVENT
END:VCALENDAR