BEGIN:VCALENDAR
VERSION:2.0
PRODID:-//フェリス女学院大学音楽学部同窓会Fグループ - ECPv6.15.19//NONSGML v1.0//EN
CALSCALE:GREGORIAN
METHOD:PUBLISH
X-WR-CALNAME:フェリス女学院大学音楽学部同窓会Fグループ
X-ORIGINAL-URL:https://fgroup.jp
X-WR-CALDESC:フェリス女学院大学音楽学部同窓会Fグループ のイベント
REFRESH-INTERVAL;VALUE=DURATION:PT1H
X-Robots-Tag:noindex
X-PUBLISHED-TTL:PT1H
BEGIN:VTIMEZONE
TZID:Asia/Tokyo
BEGIN:STANDARD
TZOFFSETFROM:+0900
TZOFFSETTO:+0900
TZNAME:JST
DTSTART:20180101T000000
END:STANDARD
END:VTIMEZONE
BEGIN:VEVENT
DTSTART;TZID=Asia/Tokyo:20190928T140000
DTEND;TZID=Asia/Tokyo:20190928T153000
DTSTAMP:20260426T022251
CREATED:20190724T010912Z
LAST-MODIFIED:20220823T141530Z
UID:10431-1569679200-1569684600@fgroup.jp
SUMMARY:Violin Duo Concert
DESCRIPTION:【プログラム】\nショスタコーヴィチ：2つのヴァイオリンとピアノのための5つの小品\nJ.S.バッハ：2つのヴァイオリンのための協奏曲ニ短調 BWV1043　ほか
URL:https://fgroup.jp/concert/20190928/
LOCATION:横浜市イギリス館\, 中区山手町115-3\, 横浜市\, 神奈川県\, 231-0862\, Japan
CATEGORIES:Fグループ後援
ATTACH;FMTTYPE=image/png:https://fgroup.jp/wp-content/uploads/no_image.png
END:VEVENT
END:VCALENDAR