BEGIN:VCALENDAR
VERSION:2.0
PRODID:-//フェリス女学院大学音楽学部同窓会Fグループ - ECPv6.15.19//NONSGML v1.0//EN
CALSCALE:GREGORIAN
METHOD:PUBLISH
X-WR-CALNAME:フェリス女学院大学音楽学部同窓会Fグループ
X-ORIGINAL-URL:https://fgroup.jp
X-WR-CALDESC:フェリス女学院大学音楽学部同窓会Fグループ のイベント
REFRESH-INTERVAL;VALUE=DURATION:PT1H
X-Robots-Tag:noindex
X-PUBLISHED-TTL:PT1H
BEGIN:VTIMEZONE
TZID:Asia/Tokyo
BEGIN:STANDARD
TZOFFSETFROM:+0900
TZOFFSETTO:+0900
TZNAME:JST
DTSTART:20180101T000000
END:STANDARD
END:VTIMEZONE
BEGIN:VEVENT
DTSTART;TZID=Asia/Tokyo:20190820T153000
DTEND;TZID=Asia/Tokyo:20190820T210000
DTSTAMP:20260426T051835
CREATED:20190611T142754Z
LAST-MODIFIED:20191001T165502Z
UID:10162-1566315000-1566334800@fgroup.jp
SUMMARY:結-YUI- アフタヌーンコンサート Vol. 3
DESCRIPTION:〜チェコの風薫る声楽デュオコンサート〜\n【内容・プログラム】\n1部 親子で楽しむコンサート  未就学児入場可\n15時30分開演(15時15分開場) \n2部 ソワレ 大人のためのクラシック チェコと日本の名曲\n19時開演(18時45分開場) ※未就学児入場不可\n♪ガチョウに草を食べさせた\n♪オペラ《ルサルカ》より”月に寄せる歌”\n♪初恋   他 \n【出演】\n小林文美子(p.60回) 松﨑夏美(s.60回)\nマルティン・ヴィドラ(tenor)
URL:https://fgroup.jp/concert/20190820/
LOCATION:結\, 山の根1-3-13\, 逗子市\, 神奈川県\, 249-0002\, 日本
CATEGORIES:Fグループ後援
ATTACH;FMTTYPE=image/jpeg:https://fgroup.jp/wp-content/uploads/20190820-1.jpg
END:VEVENT
END:VCALENDAR