BEGIN:VCALENDAR
VERSION:2.0
PRODID:-//フェリス女学院大学音楽学部同窓会Fグループ - ECPv6.15.19//NONSGML v1.0//EN
CALSCALE:GREGORIAN
METHOD:PUBLISH
X-WR-CALNAME:フェリス女学院大学音楽学部同窓会Fグループ
X-ORIGINAL-URL:https://fgroup.jp
X-WR-CALDESC:フェリス女学院大学音楽学部同窓会Fグループ のイベント
REFRESH-INTERVAL;VALUE=DURATION:PT1H
X-Robots-Tag:noindex
X-PUBLISHED-TTL:PT1H
BEGIN:VTIMEZONE
TZID:Asia/Tokyo
BEGIN:STANDARD
TZOFFSETFROM:+0900
TZOFFSETTO:+0900
TZNAME:JST
DTSTART:20240101T000000
END:STANDARD
END:VTIMEZONE
BEGIN:VEVENT
DTSTART;TZID=Asia/Tokyo:20250329T140000
DTEND;TZID=Asia/Tokyo:20250329T170000
DTSTAMP:20260424T063822
CREATED:20250306T024704Z
LAST-MODIFIED:20250306T025135Z
UID:17833-1743256800-1743267600@fgroup.jp
SUMMARY:弦楽合奏の愉しみ〜珠玉の名曲〜
DESCRIPTION:Fグループリユニオンコンサート \n後援:フェリス女学院大学音楽学部 \n【曲目】 \nW.A.モーツァルト　アイネ・クライネ・ナハトムジーク \n芥川也寸志　弦楽のための三楽章 \nA.ドヴォルザーク　弦楽セレナーデ \n【出演】Fグループアンサンブル \n【チケット】前売2500円　当日券3000円　全席自由
URL:https://fgroup.jp/concert/20250329/
LOCATION:フェリスホール\, 中区山手町37\, 横浜市\, 神奈川県\, 231-0862\, Japan
CATEGORIES:Fグループ主催
ATTACH;FMTTYPE=image/jpeg:https://fgroup.jp/wp-content/uploads/Polish_20250306_115035799-scaled.jpg
END:VEVENT
END:VCALENDAR