BEGIN:VCALENDAR
VERSION:2.0
PRODID:-//フェリス女学院大学音楽学部同窓会Fグループ - ECPv6.15.19//NONSGML v1.0//EN
CALSCALE:GREGORIAN
METHOD:PUBLISH
X-WR-CALNAME:フェリス女学院大学音楽学部同窓会Fグループ
X-ORIGINAL-URL:https://fgroup.jp
X-WR-CALDESC:フェリス女学院大学音楽学部同窓会Fグループ のイベント
REFRESH-INTERVAL;VALUE=DURATION:PT1H
X-Robots-Tag:noindex
X-PUBLISHED-TTL:PT1H
BEGIN:VTIMEZONE
TZID:Asia/Tokyo
BEGIN:STANDARD
TZOFFSETFROM:+0900
TZOFFSETTO:+0900
TZNAME:JST
DTSTART:20230101T000000
END:STANDARD
END:VTIMEZONE
BEGIN:VEVENT
DTSTART;TZID=Asia/Tokyo:20240323T160000
DTEND;TZID=Asia/Tokyo:20240323T160000
DTSTAMP:20260424T222045
CREATED:20240313T155339Z
LAST-MODIFIED:20240313T155339Z
UID:17026-1711209600-1711209600@fgroup.jp
SUMMARY:親子三世代を繋ぐ音楽会
DESCRIPTION:出演  天風（ボーイソプラノ）、海野美栄（ソプラノ）、豊田華子（ピアノ）、 \n特別ゲスト 鷲見恵理子(ヴァイオリン) \nチケット料金（全席自由・税込） \n大人 5\,000円、学生 3\,000円、子ども（4歳〜小学生）2\,000円 \n※学生、子どもチケットのお客様は、身分証明証（学生証、健康保険証、マイナンバーカード等）を当日ご持参ください。※乳幼児（3歳まで）の入場はご遠慮ください。\n※乳幼児向け有料託児室（先着順）をご用意しております。
URL:https://fgroup.jp/concert/20240323/
LOCATION:めぐろパーシモンホール 小ホール\, 八雲1-1-1\, 目黒区\, 東京都\, 152-0023\, Japan
CATEGORIES:Fグループ主催
ATTACH;FMTTYPE=image/jpeg:https://fgroup.jp/wp-content/uploads/1710342132315-scaled-e1775322051810.jpg
END:VEVENT
END:VCALENDAR