BEGIN:VCALENDAR
VERSION:2.0
PRODID:-//フェリス女学院大学音楽学部同窓会Fグループ - ECPv6.15.19//NONSGML v1.0//EN
CALSCALE:GREGORIAN
METHOD:PUBLISH
X-WR-CALNAME:フェリス女学院大学音楽学部同窓会Fグループ
X-ORIGINAL-URL:https://fgroup.jp
X-WR-CALDESC:フェリス女学院大学音楽学部同窓会Fグループ のイベント
REFRESH-INTERVAL;VALUE=DURATION:PT1H
X-Robots-Tag:noindex
X-PUBLISHED-TTL:PT1H
BEGIN:VTIMEZONE
TZID:Asia/Tokyo
BEGIN:STANDARD
TZOFFSETFROM:+0900
TZOFFSETTO:+0900
TZNAME:JST
DTSTART:20120101T000000
END:STANDARD
END:VTIMEZONE
BEGIN:VEVENT
DTSTART;TZID=Asia/Tokyo:20131123T150000
DTEND;TZID=Asia/Tokyo:20131123T180000
DTSTAMP:20260420T074208
CREATED:20171224T035536Z
LAST-MODIFIED:20190803T014824Z
UID:5999-1385218800-1385229600@fgroup.jp
SUMMARY:Fグループ研修会とフェリスホールのための募金コンサート
DESCRIPTION:第1部　研修会　み言葉と音楽　～バッハの時代に焦点を当てて～\n　講師・演奏 　宮本とも子(org.教授) \n第2部　フェリスホールのための募金コンサート\n【プログラムと演奏者】 \nバッハ：幻想曲とフーガ ト短調 BWV 542\n　籾垣佳子(org.48回) \nアゾラ：神の新しい歌\n高田三郎：『心の四季』～\n小六禮次郎：組曲『きんもくせい』～\n　土屋広次郎(cond.教授)　立神粧子(p.教授)\n　フェリス・ヴォーカルアンサンブル九州\nS.　市岡洋子(30回)　榎田一与(s.35回)　小串成美(s.25回)　菊竹美枝　山﨑真利子(s.25回)\nMS. 実吉さおり(35回)　長千英子　豊嶋キヌヨ(20回)　橋口章子(21回)　松本洋子(25回)\nA.　河田まゆみ(12回)　木村朱美　三田留美子(30回)　高木洋子(21回)　藤江由美(25回)　安波裕子(24回) \n土井晩翠／瀧廉太郎： 荒城の月\n山之口貘／中田喜直： 結婚\nモーツァルト：《ドン・ジョヴァンニ》～窓辺に寄っておいで、かわいい娘よ\nモーツァルト：《魔笛》～かわいい娘か女房があれば\nミュージカル《ラ・マンチャの男》～見果てぬ夢\n　星野聡(br.教授)　立神粧子(p.教授) \nショパン：3つのノクターン　op. 15／バラード第4番 ヘ短調 op. 52\n　堀由紀子(p.教授) \n→プログラム
URL:https://fgroup.jp/concert/20131123/
LOCATION:フェリスホール\, 中区山手町37\, 横浜市\, 神奈川県\, 231-0862\, Japan
CATEGORIES:Fグループ主催,チャリティコンサート,研修会
ATTACH;FMTTYPE=image/jpeg:https://fgroup.jp/wp-content/uploads/2013_11.23.jpg
END:VEVENT
END:VCALENDAR